BEGIN:VCALENDAR
VERSION:2.0
PRODID:-//Belton Woods Golf Club - ECPv6.15.1.1//NONSGML v1.0//EN
CALSCALE:GREGORIAN
METHOD:PUBLISH
X-WR-CALNAME:Belton Woods Golf Club
X-ORIGINAL-URL:https://beltonwoodsgolfclub.co.uk
X-WR-CALDESC:Events for Belton Woods Golf Club
REFRESH-INTERVAL;VALUE=DURATION:PT1H
X-Robots-Tag:noindex
X-PUBLISHED-TTL:PT1H
BEGIN:VTIMEZONE
TZID:Europe/London
BEGIN:DAYLIGHT
TZOFFSETFROM:+0000
TZOFFSETTO:+0100
TZNAME:BST
DTSTART:20230326T010000
END:DAYLIGHT
BEGIN:STANDARD
TZOFFSETFROM:+0100
TZOFFSETTO:+0000
TZNAME:GMT
DTSTART:20231029T010000
END:STANDARD
END:VTIMEZONE
BEGIN:VEVENT
DTSTART;TZID=Europe/London:20230712T094800
DTEND;TZID=Europe/London:20230712T094800
DTSTAMP:20260425T185500
CREATED:20230102T224025Z
LAST-MODIFIED:20230102T224025Z
UID:7975-1689155280-1689155280@beltonwoodsgolfclub.co.uk
SUMMARY:Par Comp 3
DESCRIPTION:6 Tee Times
URL:https://beltonwoodsgolfclub.co.uk/event/par-comp-3-2-2/
CATEGORIES:Ladies Competition
END:VEVENT
BEGIN:VEVENT
DTSTART;TZID=Europe/London:20230712T094800
DTEND;TZID=Europe/London:20230712T094800
DTSTAMP:20260425T185500
CREATED:20230102T224025Z
LAST-MODIFIED:20230102T224025Z
UID:5253-1689155280-1689155280@beltonwoodsgolfclub.co.uk
SUMMARY:Par Comp 3
DESCRIPTION:6 Tee Times
URL:https://beltonwoodsgolfclub.co.uk/event/par-comp-3-2/
CATEGORIES:Ladies Competition
END:VEVENT
BEGIN:VEVENT
DTSTART;TZID=Europe/London:20230710T081500
DTEND;TZID=Europe/London:20230710T084500
DTSTAMP:20260425T185500
CREATED:20230410T164504Z
LAST-MODIFIED:20230410T164504Z
UID:8053-1688976900-1688978700@beltonwoodsgolfclub.co.uk
SUMMARY:Seniors Match Away v's Blankney GC
DESCRIPTION:8 Tee Times
URL:https://beltonwoodsgolfclub.co.uk/event/seniors-match-away-vs-blankney-gc-2-2/
CATEGORIES:Seniors Match
END:VEVENT
BEGIN:VEVENT
DTSTART;TZID=Europe/London:20230710T081500
DTEND;TZID=Europe/London:20230710T084500
DTSTAMP:20260425T185500
CREATED:20230410T164504Z
LAST-MODIFIED:20230410T164504Z
UID:5732-1688976900-1688978700@beltonwoodsgolfclub.co.uk
SUMMARY:Seniors Match Away v's Blankney GC
DESCRIPTION:8 Tee Times
URL:https://beltonwoodsgolfclub.co.uk/event/seniors-match-away-vs-blankney-gc-2/
CATEGORIES:Seniors Match
END:VEVENT
BEGIN:VEVENT
DTSTART;TZID=Europe/London:20230709T070000
DTEND;TZID=Europe/London:20230709T105200
DTSTAMP:20260425T185500
CREATED:20221122T235753Z
LAST-MODIFIED:20221122T235753Z
UID:4976-1688886000-1688899920@beltonwoodsgolfclub.co.uk
SUMMARY:Men's & Ladies Captain's charity day - mixed
DESCRIPTION:White/Red
URL:https://beltonwoodsgolfclub.co.uk/event/mens-ladies-captains-charity-day-mixed-2/
CATEGORIES:Mixed Competition
END:VEVENT
BEGIN:VEVENT
DTSTART;TZID=Europe/London:20230709T070000
DTEND;TZID=Europe/London:20230709T105200
DTSTAMP:20260425T185500
CREATED:20221122T235753Z
LAST-MODIFIED:20221122T235753Z
UID:7864-1688886000-1688899920@beltonwoodsgolfclub.co.uk
SUMMARY:Men's & Ladies Captain's charity day - mixed
DESCRIPTION:White/Red
URL:https://beltonwoodsgolfclub.co.uk/event/mens-ladies-captains-charity-day-mixed-2-2/
CATEGORIES:Mixed Competition
END:VEVENT
BEGIN:VEVENT
DTSTART;TZID=Europe/London:20230709T070000
DTEND;TZID=Europe/London:20230709T070000
DTSTAMP:20260425T185500
CREATED:20230102T224025Z
LAST-MODIFIED:20230102T224025Z
UID:7974-1688886000-1688886000@beltonwoodsgolfclub.co.uk
SUMMARY:Captains Charity Day Mixed
DESCRIPTION:30 Tee Times
URL:https://beltonwoodsgolfclub.co.uk/event/captains-charity-day-mixed-2/
CATEGORIES:Mixed Competition
END:VEVENT
BEGIN:VEVENT
DTSTART;TZID=Europe/London:20230709T070000
DTEND;TZID=Europe/London:20230709T070000
DTSTAMP:20260425T185500
CREATED:20230102T224025Z
LAST-MODIFIED:20230102T224025Z
UID:5252-1688886000-1688886000@beltonwoodsgolfclub.co.uk
SUMMARY:Captains Charity Day Mixed
DESCRIPTION:30 Tee Times
URL:https://beltonwoodsgolfclub.co.uk/event/captains-charity-day-mixed/
CATEGORIES:Mixed Competition
END:VEVENT
BEGIN:VEVENT
DTSTART;TZID=Europe/London:20230708T130000
DTEND;TZID=Europe/London:20230708T140000
DTSTAMP:20260425T185500
CREATED:20230115T233618Z
LAST-MODIFIED:20230115T233618Z
UID:5447-1688821200-1688824800@beltonwoodsgolfclub.co.uk
SUMMARY:B Team Away v Kirton Holme
DESCRIPTION:White Tees
URL:https://beltonwoodsgolfclub.co.uk/event/b-team-away-v-kirton-holme-3/
CATEGORIES:Mens Team
END:VEVENT
BEGIN:VEVENT
DTSTART;TZID=Europe/London:20230708T130000
DTEND;TZID=Europe/London:20230708T140000
DTSTAMP:20260425T185500
CREATED:20230115T233618Z
LAST-MODIFIED:20230115T233618Z
UID:8032-1688821200-1688824800@beltonwoodsgolfclub.co.uk
SUMMARY:B Team Away v Kirton Holme
DESCRIPTION:White Tees
URL:https://beltonwoodsgolfclub.co.uk/event/b-team-away-v-kirton-holme-3-2/
CATEGORIES:Mens Team
END:VEVENT
BEGIN:VEVENT
DTSTART;TZID=Europe/London:20230708T130000
DTEND;TZID=Europe/London:20230708T140000
DTSTAMP:20260425T185500
CREATED:20221122T235941Z
LAST-MODIFIED:20221122T235941Z
UID:7895-1688821200-1688824800@beltonwoodsgolfclub.co.uk
SUMMARY:A Team Away v Spalding
DESCRIPTION:White Tees
URL:https://beltonwoodsgolfclub.co.uk/event/a-team-away-v-spalding-2/
CATEGORIES:Mens Team
END:VEVENT
BEGIN:VEVENT
DTSTART;TZID=Europe/London:20230708T130000
DTEND;TZID=Europe/London:20230708T140000
DTSTAMP:20260425T185500
CREATED:20221122T235941Z
LAST-MODIFIED:20230411T202005Z
UID:5009-1688821200-1688824800@beltonwoodsgolfclub.co.uk
SUMMARY:A Team Away v Spalding
DESCRIPTION:White Tees
URL:https://beltonwoodsgolfclub.co.uk/event/a-team-away-v-spalding/
CATEGORIES:Mens Team
END:VEVENT
BEGIN:VEVENT
DTSTART;TZID=Europe/London:20230708T090000
DTEND;TZID=Europe/London:20230708T090000
DTSTAMP:20260425T185500
CREATED:20230102T224025Z
LAST-MODIFIED:20230102T224025Z
UID:7973-1688806800-1688806800@beltonwoodsgolfclub.co.uk
SUMMARY:Monthly Stableford
DESCRIPTION:8 Tee Times
URL:https://beltonwoodsgolfclub.co.uk/event/monthly-stableford-33-2/
CATEGORIES:Ladies Competition
END:VEVENT
BEGIN:VEVENT
DTSTART;TZID=Europe/London:20230708T090000
DTEND;TZID=Europe/London:20230708T090000
DTSTAMP:20260425T185500
CREATED:20230102T224025Z
LAST-MODIFIED:20230102T224025Z
UID:5251-1688806800-1688806800@beltonwoodsgolfclub.co.uk
SUMMARY:Monthly Stableford
DESCRIPTION:8 Tee Times
URL:https://beltonwoodsgolfclub.co.uk/event/monthly-stableford-33/
CATEGORIES:Ladies Competition
END:VEVENT
BEGIN:VEVENT
DTSTART;TZID=Europe/London:20230705T093200
DTEND;TZID=Europe/London:20230705T093200
DTSTAMP:20260425T185500
CREATED:20230102T224025Z
LAST-MODIFIED:20230102T224025Z
UID:7972-1688549520-1688549520@beltonwoodsgolfclub.co.uk
SUMMARY:Monthly Stableford
DESCRIPTION:8 Tee Times
URL:https://beltonwoodsgolfclub.co.uk/event/monthly-stableford-32-2/
CATEGORIES:Ladies Competition
END:VEVENT
BEGIN:VEVENT
DTSTART;TZID=Europe/London:20230705T093200
DTEND;TZID=Europe/London:20230705T093200
DTSTAMP:20260425T185500
CREATED:20230102T224025Z
LAST-MODIFIED:20230102T224025Z
UID:5250-1688549520-1688549520@beltonwoodsgolfclub.co.uk
SUMMARY:Monthly Stableford
DESCRIPTION:8 Tee Times
URL:https://beltonwoodsgolfclub.co.uk/event/monthly-stableford-32/
CATEGORIES:Ladies Competition
END:VEVENT
BEGIN:VEVENT
DTSTART;TZID=Europe/London:20230705T081500
DTEND;TZID=Europe/London:20230705T084400
DTSTAMP:20260425T185500
CREATED:20230410T164504Z
LAST-MODIFIED:20230410T164504Z
UID:5731-1688544900-1688546640@beltonwoodsgolfclub.co.uk
SUMMARY:Seniors Match Home v's Greetham Valley GC
DESCRIPTION:8 Tee Times
URL:https://beltonwoodsgolfclub.co.uk/event/seniors-match-home-vs-greetham-valley-gc-2/
CATEGORIES:Seniors Match
END:VEVENT
BEGIN:VEVENT
DTSTART;TZID=Europe/London:20230705T081500
DTEND;TZID=Europe/London:20230705T084400
DTSTAMP:20260425T185500
CREATED:20230410T164504Z
LAST-MODIFIED:20230410T164504Z
UID:8052-1688544900-1688546640@beltonwoodsgolfclub.co.uk
SUMMARY:Seniors Match Home v's Greetham Valley GC
DESCRIPTION:8 Tee Times
URL:https://beltonwoodsgolfclub.co.uk/event/seniors-match-home-vs-greetham-valley-gc-2-2/
CATEGORIES:Seniors Match
END:VEVENT
BEGIN:VEVENT
DTSTART;TZID=Europe/London:20230702T070000
DTEND;TZID=Europe/London:20230702T102800
DTSTAMP:20260425T185500
CREATED:20221122T235738Z
LAST-MODIFIED:20221122T235738Z
UID:7863-1688281200-1688293680@beltonwoodsgolfclub.co.uk
SUMMARY:Men's Stableford
DESCRIPTION:White Tees
URL:https://beltonwoodsgolfclub.co.uk/event/mens-stableford-20-2/
CATEGORIES:Mens Competition
END:VEVENT
BEGIN:VEVENT
DTSTART;TZID=Europe/London:20230702T070000
DTEND;TZID=Europe/London:20230702T102800
DTSTAMP:20260425T185500
CREATED:20221122T235738Z
LAST-MODIFIED:20221122T235738Z
UID:4975-1688281200-1688293680@beltonwoodsgolfclub.co.uk
SUMMARY:Men's Stableford
DESCRIPTION:White Tees
URL:https://beltonwoodsgolfclub.co.uk/event/mens-stableford-20/
CATEGORIES:Mens Competition
END:VEVENT
BEGIN:VEVENT
DTSTART;TZID=Europe/London:20230701T090000
DTEND;TZID=Europe/London:20230701T090000
DTSTAMP:20260425T185500
CREATED:20230102T224012Z
LAST-MODIFIED:20230102T224012Z
UID:7971-1688202000-1688202000@beltonwoodsgolfclub.co.uk
SUMMARY:PING
DESCRIPTION:8 Tee Times
URL:https://beltonwoodsgolfclub.co.uk/event/ping-2-2/
CATEGORIES:Ladies Competition
END:VEVENT
BEGIN:VEVENT
DTSTART;TZID=Europe/London:20230701T090000
DTEND;TZID=Europe/London:20230701T090000
DTSTAMP:20260425T185500
CREATED:20230102T224012Z
LAST-MODIFIED:20230102T224012Z
UID:5249-1688202000-1688202000@beltonwoodsgolfclub.co.uk
SUMMARY:PING
DESCRIPTION:8 Tee Times
URL:https://beltonwoodsgolfclub.co.uk/event/ping-2/
CATEGORIES:Ladies Competition
END:VEVENT
BEGIN:VEVENT
DTSTART;TZID=Europe/London:20230628T094800
DTEND;TZID=Europe/London:20230628T094800
DTSTAMP:20260425T185500
CREATED:20230102T224012Z
LAST-MODIFIED:20230102T224012Z
UID:7970-1687945680-1687945680@beltonwoodsgolfclub.co.uk
SUMMARY:PING
DESCRIPTION:8 Tee Times
URL:https://beltonwoodsgolfclub.co.uk/event/ping-3/
CATEGORIES:Ladies Competition
END:VEVENT
BEGIN:VEVENT
DTSTART;TZID=Europe/London:20230628T094800
DTEND;TZID=Europe/London:20230628T094800
DTSTAMP:20260425T185500
CREATED:20230102T224012Z
LAST-MODIFIED:20230102T224012Z
UID:5248-1687945680-1687945680@beltonwoodsgolfclub.co.uk
SUMMARY:PING
DESCRIPTION:8 Tee Times
URL:https://beltonwoodsgolfclub.co.uk/event/ping/
CATEGORIES:Ladies Competition
END:VEVENT
BEGIN:VEVENT
DTSTART;TZID=Europe/London:20230625T070000
DTEND;TZID=Europe/London:20230625T102800
DTSTAMP:20260425T185500
CREATED:20221122T235738Z
LAST-MODIFIED:20221122T235738Z
UID:7862-1687676400-1687688880@beltonwoodsgolfclub.co.uk
SUMMARY:Men's Invitational
DESCRIPTION:White Tees
URL:https://beltonwoodsgolfclub.co.uk/event/mens-invitational-2/
CATEGORIES:Mens Competition
END:VEVENT
BEGIN:VEVENT
DTSTART;TZID=Europe/London:20230625T070000
DTEND;TZID=Europe/London:20230625T102800
DTSTAMP:20260425T185500
CREATED:20221122T235738Z
LAST-MODIFIED:20221122T235738Z
UID:4974-1687676400-1687688880@beltonwoodsgolfclub.co.uk
SUMMARY:Men's Invitational
DESCRIPTION:White Tees
URL:https://beltonwoodsgolfclub.co.uk/event/mens-invitational/
CATEGORIES:Mens Competition
END:VEVENT
BEGIN:VEVENT
DTSTART;TZID=Europe/London:20230624T085200
DTEND;TZID=Europe/London:20230624T085200
DTSTAMP:20260425T185500
CREATED:20230102T224012Z
LAST-MODIFIED:20230102T224012Z
UID:7969-1687596720-1687596720@beltonwoodsgolfclub.co.uk
SUMMARY:Monthly Medal - time change to 8.52
DESCRIPTION:8 Tee Times
URL:https://beltonwoodsgolfclub.co.uk/event/monthly-medal-time-change-to-8-52-2/
CATEGORIES:Ladies Competition
END:VEVENT
BEGIN:VEVENT
DTSTART;TZID=Europe/London:20230624T085200
DTEND;TZID=Europe/London:20230624T085200
DTSTAMP:20260425T185500
CREATED:20230102T224012Z
LAST-MODIFIED:20230102T224012Z
UID:5247-1687596720-1687596720@beltonwoodsgolfclub.co.uk
SUMMARY:Monthly Medal - time change to 8.52
DESCRIPTION:8 Tee Times
URL:https://beltonwoodsgolfclub.co.uk/event/monthly-medal-time-change-to-8-52/
CATEGORIES:Ladies Competition
END:VEVENT
BEGIN:VEVENT
DTSTART;TZID=Europe/London:20230621T093200
DTEND;TZID=Europe/London:20230621T093200
DTSTAMP:20260425T185500
CREATED:20230102T224012Z
LAST-MODIFIED:20230102T224012Z
UID:7968-1687339920-1687339920@beltonwoodsgolfclub.co.uk
SUMMARY:Monthly Medal
DESCRIPTION:8 Tee Times
URL:https://beltonwoodsgolfclub.co.uk/event/monthly-medal-26-2/
CATEGORIES:Ladies Competition
END:VEVENT
BEGIN:VEVENT
DTSTART;TZID=Europe/London:20230621T093200
DTEND;TZID=Europe/London:20230621T093200
DTSTAMP:20260425T185500
CREATED:20230102T224012Z
LAST-MODIFIED:20230102T224012Z
UID:5246-1687339920-1687339920@beltonwoodsgolfclub.co.uk
SUMMARY:Monthly Medal
DESCRIPTION:8 Tee Times
URL:https://beltonwoodsgolfclub.co.uk/event/monthly-medal-26/
CATEGORIES:Ladies Competition
END:VEVENT
END:VCALENDAR