BEGIN:VCALENDAR
VERSION:2.0
PRODID:-//Belton Woods Golf Club - ECPv6.15.1.1//NONSGML v1.0//EN
CALSCALE:GREGORIAN
METHOD:PUBLISH
X-WR-CALNAME:Belton Woods Golf Club
X-ORIGINAL-URL:https://beltonwoodsgolfclub.co.uk
X-WR-CALDESC:Events for Belton Woods Golf Club
REFRESH-INTERVAL;VALUE=DURATION:PT1H
X-Robots-Tag:noindex
X-PUBLISHED-TTL:PT1H
BEGIN:VTIMEZONE
TZID:Europe/London
BEGIN:DAYLIGHT
TZOFFSETFROM:+0000
TZOFFSETTO:+0100
TZNAME:BST
DTSTART:20230326T010000
END:DAYLIGHT
BEGIN:STANDARD
TZOFFSETFROM:+0100
TZOFFSETTO:+0000
TZNAME:GMT
DTSTART:20231029T010000
END:STANDARD
END:VTIMEZONE
BEGIN:VEVENT
DTSTART;TZID=Europe/London:20230930T093200
DTEND;TZID=Europe/London:20230930T093200
DTSTAMP:20260425T151241
CREATED:20230102T224201Z
LAST-MODIFIED:20230102T224201Z
UID:8009-1696066320-1696066320@beltonwoodsgolfclub.co.uk
SUMMARY:Jan McCullough Trophy
DESCRIPTION:8 Tee Times
URL:https://beltonwoodsgolfclub.co.uk/event/jan-mccullough-trophy-2-2/
CATEGORIES:Ladies Competition
END:VEVENT
BEGIN:VEVENT
DTSTART;TZID=Europe/London:20230930T093200
DTEND;TZID=Europe/London:20230930T093200
DTSTAMP:20260425T151241
CREATED:20230102T224201Z
LAST-MODIFIED:20230102T224201Z
UID:5287-1696066320-1696066320@beltonwoodsgolfclub.co.uk
SUMMARY:Jan McCullough Trophy
DESCRIPTION:8 Tee Times
URL:https://beltonwoodsgolfclub.co.uk/event/jan-mccullough-trophy-2/
CATEGORIES:Ladies Competition
END:VEVENT
BEGIN:VEVENT
DTSTART;TZID=Europe/London:20230927T093200
DTEND;TZID=Europe/London:20230927T093200
DTSTAMP:20260425T151241
CREATED:20230102T224200Z
LAST-MODIFIED:20230102T225753Z
UID:5286-1695807120-1695807120@beltonwoodsgolfclub.co.uk
SUMMARY:Ladies Social
DESCRIPTION:8 Tee Times
URL:https://beltonwoodsgolfclub.co.uk/event/social-27/
CATEGORIES:Ladies Social
END:VEVENT
BEGIN:VEVENT
DTSTART;TZID=Europe/London:20230927T093200
DTEND;TZID=Europe/London:20230927T093200
DTSTAMP:20260425T151241
CREATED:20230102T224200Z
LAST-MODIFIED:20230102T224200Z
UID:8008-1695807120-1695807120@beltonwoodsgolfclub.co.uk
SUMMARY:Ladies Social
DESCRIPTION:8 Tee Times
URL:https://beltonwoodsgolfclub.co.uk/event/social-27-2/
CATEGORIES:Ladies Social
END:VEVENT
BEGIN:VEVENT
DTSTART;TZID=Europe/London:20230924T070000
DTEND;TZID=Europe/London:20230924T102800
DTSTAMP:20260425T151241
CREATED:20221122T235823Z
LAST-MODIFIED:20221122T235823Z
UID:7877-1695538800-1695551280@beltonwoodsgolfclub.co.uk
SUMMARY:Men’s Stableford
DESCRIPTION:White Tees
URL:https://beltonwoodsgolfclub.co.uk/event/mens-stableford-22-2/
CATEGORIES:Mens Competition
END:VEVENT
BEGIN:VEVENT
DTSTART;TZID=Europe/London:20230924T070000
DTEND;TZID=Europe/London:20230924T102800
DTSTAMP:20260425T151241
CREATED:20221122T235823Z
LAST-MODIFIED:20221122T235823Z
UID:4989-1695538800-1695551280@beltonwoodsgolfclub.co.uk
SUMMARY:Men’s Stableford
DESCRIPTION:White Tees
URL:https://beltonwoodsgolfclub.co.uk/event/mens-stableford-22/
CATEGORIES:Mens Competition
END:VEVENT
BEGIN:VEVENT
DTSTART;TZID=Europe/London:20230923T102000
DTEND;TZID=Europe/London:20230923T102000
DTSTAMP:20260425T151241
CREATED:20230102T224200Z
LAST-MODIFIED:20230102T224200Z
UID:5285-1695464400-1695464400@beltonwoodsgolfclub.co.uk
SUMMARY:Monthly Medal
DESCRIPTION:2 Tee Times
URL:https://beltonwoodsgolfclub.co.uk/event/monthly-medal-32/
CATEGORIES:Ladies Competition
END:VEVENT
BEGIN:VEVENT
DTSTART;TZID=Europe/London:20230923T102000
DTEND;TZID=Europe/London:20230923T102000
DTSTAMP:20260425T151241
CREATED:20230102T224200Z
LAST-MODIFIED:20230102T224200Z
UID:8007-1695464400-1695464400@beltonwoodsgolfclub.co.uk
SUMMARY:Monthly Medal
DESCRIPTION:2 Tee Times
URL:https://beltonwoodsgolfclub.co.uk/event/monthly-medal-32-2/
CATEGORIES:Ladies Competition
END:VEVENT
BEGIN:VEVENT
DTSTART;TZID=Europe/London:20230923T090000
DTEND;TZID=Europe/London:20230923T090000
DTSTAMP:20260425T151241
CREATED:20230102T224155Z
LAST-MODIFIED:20230102T224155Z
UID:8006-1695459600-1695459600@beltonwoodsgolfclub.co.uk
SUMMARY:Tony Rose Bowl Mixed
DESCRIPTION:10 Tee Times
URL:https://beltonwoodsgolfclub.co.uk/event/tony-rose-bowl-mixed-2/
CATEGORIES:Ladies Competition
END:VEVENT
BEGIN:VEVENT
DTSTART;TZID=Europe/London:20230923T090000
DTEND;TZID=Europe/London:20230923T090000
DTSTAMP:20260425T151241
CREATED:20230102T224155Z
LAST-MODIFIED:20230102T224155Z
UID:5284-1695459600-1695459600@beltonwoodsgolfclub.co.uk
SUMMARY:Tony Rose Bowl Mixed
DESCRIPTION:10 Tee Times
URL:https://beltonwoodsgolfclub.co.uk/event/tony-rose-bowl-mixed/
CATEGORIES:Ladies Competition
END:VEVENT
BEGIN:VEVENT
DTSTART;TZID=Europe/London:20230920T093200
DTEND;TZID=Europe/London:20230920T093200
DTSTAMP:20260425T151241
CREATED:20230102T224155Z
LAST-MODIFIED:20230102T224155Z
UID:8005-1695202320-1695202320@beltonwoodsgolfclub.co.uk
SUMMARY:Monthly Medal
DESCRIPTION:8 Tee Times
URL:https://beltonwoodsgolfclub.co.uk/event/monthly-medal-31-2/
CATEGORIES:Ladies Competition
END:VEVENT
BEGIN:VEVENT
DTSTART;TZID=Europe/London:20230920T093200
DTEND;TZID=Europe/London:20230920T093200
DTSTAMP:20260425T151241
CREATED:20230102T224155Z
LAST-MODIFIED:20230102T224155Z
UID:5283-1695202320-1695202320@beltonwoodsgolfclub.co.uk
SUMMARY:Monthly Medal
DESCRIPTION:8 Tee Times
URL:https://beltonwoodsgolfclub.co.uk/event/monthly-medal-31/
CATEGORIES:Ladies Competition
END:VEVENT
BEGIN:VEVENT
DTSTART;TZID=Europe/London:20230920T084500
DTEND;TZID=Europe/London:20230920T093200
DTSTAMP:20260425T151241
CREATED:20230410T164534Z
LAST-MODIFIED:20230410T164534Z
UID:5739-1695199500-1695202320@beltonwoodsgolfclub.co.uk
SUMMARY:Seniors Match Home v's Oulton Hall
DESCRIPTION:
URL:https://beltonwoodsgolfclub.co.uk/event/seniors-match-home-vs-oulton-hall-2/
CATEGORIES:Seniors Match
END:VEVENT
BEGIN:VEVENT
DTSTART;TZID=Europe/London:20230920T084500
DTEND;TZID=Europe/London:20230920T093200
DTSTAMP:20260425T151241
CREATED:20230410T164534Z
LAST-MODIFIED:20230410T164534Z
UID:8060-1695199500-1695202320@beltonwoodsgolfclub.co.uk
SUMMARY:Seniors Match Home v's Oulton Hall
DESCRIPTION:
URL:https://beltonwoodsgolfclub.co.uk/event/seniors-match-home-vs-oulton-hall-2-2/
CATEGORIES:Seniors Match
END:VEVENT
BEGIN:VEVENT
DTSTART;TZID=Europe/London:20230917T070000
DTEND;TZID=Europe/London:20230917T102800
DTSTAMP:20260425T151241
CREATED:20221122T235823Z
LAST-MODIFIED:20221122T235823Z
UID:7876-1694934000-1694946480@beltonwoodsgolfclub.co.uk
SUMMARY:Hastings  Shield   (Pairs BB)
DESCRIPTION:White Tees
URL:https://beltonwoodsgolfclub.co.uk/event/hastings-shield-pairs-bb-2-2/
CATEGORIES:Mens Competition
END:VEVENT
BEGIN:VEVENT
DTSTART;TZID=Europe/London:20230917T070000
DTEND;TZID=Europe/London:20230917T102800
DTSTAMP:20260425T151241
CREATED:20221122T235823Z
LAST-MODIFIED:20221122T235823Z
UID:4988-1694934000-1694946480@beltonwoodsgolfclub.co.uk
SUMMARY:Hastings  Shield   (Pairs BB)
DESCRIPTION:White Tees
URL:https://beltonwoodsgolfclub.co.uk/event/hastings-shield-pairs-bb-2/
CATEGORIES:Mens Competition
END:VEVENT
BEGIN:VEVENT
DTSTART;TZID=Europe/London:20230916T084400
DTEND;TZID=Europe/London:20230916T084400
DTSTAMP:20260425T151241
CREATED:20230102T224155Z
LAST-MODIFIED:20230102T224155Z
UID:8004-1694853840-1694853840@beltonwoodsgolfclub.co.uk
SUMMARY:Autumn Meeting
DESCRIPTION:10 Tee Times
URL:https://beltonwoodsgolfclub.co.uk/event/autumn-meeting-2/
CATEGORIES:Ladies Competition
END:VEVENT
BEGIN:VEVENT
DTSTART;TZID=Europe/London:20230916T084400
DTEND;TZID=Europe/London:20230916T084400
DTSTAMP:20260425T151241
CREATED:20230102T224155Z
LAST-MODIFIED:20230102T224155Z
UID:5282-1694853840-1694853840@beltonwoodsgolfclub.co.uk
SUMMARY:Autumn Meeting
DESCRIPTION:10 Tee Times
URL:https://beltonwoodsgolfclub.co.uk/event/autumn-meeting/
CATEGORIES:Ladies Competition
END:VEVENT
BEGIN:VEVENT
DTSTART;TZID=Europe/London:20230913T094800
DTEND;TZID=Europe/London:20230913T094800
DTSTAMP:20260425T151241
CREATED:20230102T224155Z
LAST-MODIFIED:20230102T224155Z
UID:8003-1694598480-1694598480@beltonwoodsgolfclub.co.uk
SUMMARY:Ladies Social
DESCRIPTION:8 Tee Times
URL:https://beltonwoodsgolfclub.co.uk/event/social-26-2/
CATEGORIES:Ladies Social
END:VEVENT
BEGIN:VEVENT
DTSTART;TZID=Europe/London:20230913T094800
DTEND;TZID=Europe/London:20230913T094800
DTSTAMP:20260425T151241
CREATED:20230102T224155Z
LAST-MODIFIED:20230102T225725Z
UID:5281-1694598480-1694598480@beltonwoodsgolfclub.co.uk
SUMMARY:Ladies Social
DESCRIPTION:8 Tee Times
URL:https://beltonwoodsgolfclub.co.uk/event/social-26/
CATEGORIES:Ladies Social
END:VEVENT
BEGIN:VEVENT
DTSTART;TZID=Europe/London:20230913T081500
DTEND;TZID=Europe/London:20230913T084400
DTSTAMP:20260425T151241
CREATED:20230410T164519Z
LAST-MODIFIED:20230410T164519Z
UID:8059-1694592900-1694594640@beltonwoodsgolfclub.co.uk
SUMMARY:Seniors Match Home v's Blankney GC
DESCRIPTION:
URL:https://beltonwoodsgolfclub.co.uk/event/seniors-match-home-vs-blankney-gc-2-2/
CATEGORIES:Seniors Match
END:VEVENT
BEGIN:VEVENT
DTSTART;TZID=Europe/London:20230913T081500
DTEND;TZID=Europe/London:20230913T084400
DTSTAMP:20260425T151241
CREATED:20230410T164519Z
LAST-MODIFIED:20230410T164519Z
UID:5738-1694592900-1694594640@beltonwoodsgolfclub.co.uk
SUMMARY:Seniors Match Home v's Blankney GC
DESCRIPTION:
URL:https://beltonwoodsgolfclub.co.uk/event/seniors-match-home-vs-blankney-gc-2/
CATEGORIES:Seniors Match
END:VEVENT
BEGIN:VEVENT
DTSTART;TZID=Europe/London:20230910T070000
DTEND;TZID=Europe/London:20230910T105200
DTSTAMP:20260425T151241
CREATED:20221122T235823Z
LAST-MODIFIED:20221122T235823Z
UID:7875-1694329200-1694343120@beltonwoodsgolfclub.co.uk
SUMMARY:Coen Cup
DESCRIPTION:White Tees
URL:https://beltonwoodsgolfclub.co.uk/event/coen-cup-2-2/
CATEGORIES:Men / Mixed
END:VEVENT
BEGIN:VEVENT
DTSTART;TZID=Europe/London:20230910T070000
DTEND;TZID=Europe/London:20230910T105200
DTSTAMP:20260425T151241
CREATED:20221122T235823Z
LAST-MODIFIED:20221122T235823Z
UID:4987-1694329200-1694343120@beltonwoodsgolfclub.co.uk
SUMMARY:Coen Cup
DESCRIPTION:White Tees
URL:https://beltonwoodsgolfclub.co.uk/event/coen-cup-2/
CATEGORIES:Men / Mixed
END:VEVENT
BEGIN:VEVENT
DTSTART;TZID=Europe/London:20230909T093200
DTEND;TZID=Europe/London:20230909T093200
DTSTAMP:20260425T151241
CREATED:20230102T224155Z
LAST-MODIFIED:20230102T224155Z
UID:8002-1694251920-1694251920@beltonwoodsgolfclub.co.uk
SUMMARY:Monthly Stableford
DESCRIPTION:8 Tee Times
URL:https://beltonwoodsgolfclub.co.uk/event/monthly-stableford-37-2/
CATEGORIES:Ladies Competition
END:VEVENT
BEGIN:VEVENT
DTSTART;TZID=Europe/London:20230909T093200
DTEND;TZID=Europe/London:20230909T093200
DTSTAMP:20260425T151241
CREATED:20230102T224155Z
LAST-MODIFIED:20230102T224155Z
UID:5280-1694251920-1694251920@beltonwoodsgolfclub.co.uk
SUMMARY:Monthly Stableford
DESCRIPTION:8 Tee Times
URL:https://beltonwoodsgolfclub.co.uk/event/monthly-stableford-37/
CATEGORIES:Ladies Competition
END:VEVENT
BEGIN:VEVENT
DTSTART;TZID=Europe/London:20230908T000000
DTEND;TZID=Europe/London:20230908T000000
DTSTAMP:20260425T151241
CREATED:20230102T224140Z
LAST-MODIFIED:20230102T224140Z
UID:8001-1694131200-1694131200@beltonwoodsgolfclub.co.uk
SUMMARY:Ladies v Seniors Trophy?
DESCRIPTION:
URL:https://beltonwoodsgolfclub.co.uk/event/ladies-v-seniors-trophy-2-2/
CATEGORIES:Ladies Team
END:VEVENT
BEGIN:VEVENT
DTSTART;TZID=Europe/London:20230908T000000
DTEND;TZID=Europe/London:20230908T000000
DTSTAMP:20260425T151241
CREATED:20230102T224140Z
LAST-MODIFIED:20230102T224140Z
UID:5279-1694131200-1694131200@beltonwoodsgolfclub.co.uk
SUMMARY:Ladies v Seniors Trophy?
DESCRIPTION:
URL:https://beltonwoodsgolfclub.co.uk/event/ladies-v-seniors-trophy-2/
CATEGORIES:Ladies Team
END:VEVENT
BEGIN:VEVENT
DTSTART;TZID=Europe/London:20230906T094800
DTEND;TZID=Europe/London:20230906T094800
DTSTAMP:20260425T151241
CREATED:20230102T224140Z
LAST-MODIFIED:20230102T224140Z
UID:5278-1693993680-1693993680@beltonwoodsgolfclub.co.uk
SUMMARY:Monthly Stableford
DESCRIPTION:8 Tee Times
URL:https://beltonwoodsgolfclub.co.uk/event/monthly-stableford-36/
CATEGORIES:Ladies Competition
END:VEVENT
BEGIN:VEVENT
DTSTART;TZID=Europe/London:20230906T094800
DTEND;TZID=Europe/London:20230906T094800
DTSTAMP:20260425T151241
CREATED:20230102T224140Z
LAST-MODIFIED:20230102T224140Z
UID:8000-1693993680-1693993680@beltonwoodsgolfclub.co.uk
SUMMARY:Monthly Stableford
DESCRIPTION:8 Tee Times
URL:https://beltonwoodsgolfclub.co.uk/event/monthly-stableford-36-2/
CATEGORIES:Ladies Competition
END:VEVENT
END:VCALENDAR