BEGIN:VCALENDAR
VERSION:2.0
PRODID:-//Belton Woods Golf Club - ECPv6.15.1.1//NONSGML v1.0//EN
CALSCALE:GREGORIAN
METHOD:PUBLISH
X-WR-CALNAME:Belton Woods Golf Club
X-ORIGINAL-URL:https://beltonwoodsgolfclub.co.uk
X-WR-CALDESC:Events for Belton Woods Golf Club
REFRESH-INTERVAL;VALUE=DURATION:PT1H
X-Robots-Tag:noindex
X-PUBLISHED-TTL:PT1H
BEGIN:VTIMEZONE
TZID:Europe/London
BEGIN:DAYLIGHT
TZOFFSETFROM:+0000
TZOFFSETTO:+0100
TZNAME:BST
DTSTART:20230326T010000
END:DAYLIGHT
BEGIN:STANDARD
TZOFFSETFROM:+0100
TZOFFSETTO:+0000
TZNAME:GMT
DTSTART:20231029T010000
END:STANDARD
BEGIN:DAYLIGHT
TZOFFSETFROM:+0000
TZOFFSETTO:+0100
TZNAME:BST
DTSTART:20240331T010000
END:DAYLIGHT
BEGIN:STANDARD
TZOFFSETFROM:+0100
TZOFFSETTO:+0000
TZNAME:GMT
DTSTART:20241027T010000
END:STANDARD
END:VTIMEZONE
BEGIN:VEVENT
DTSTART;TZID=Europe/London:20240123T000000
DTEND;TZID=Europe/London:20240123T000000
DTSTAMP:20260423T081542
CREATED:20240113T072610Z
LAST-MODIFIED:20240113T072610Z
UID:8072-1705968000-1705968000@beltonwoodsgolfclub.co.uk
SUMMARY:Woods Course closed - rested
DESCRIPTION:
URL:https://beltonwoodsgolfclub.co.uk/event/woods-course-closed-rested-2-2/
CATEGORIES:Woods Course closed - rested
END:VEVENT
BEGIN:VEVENT
DTSTART;TZID=Europe/London:20240123T000000
DTEND;TZID=Europe/London:20240123T000000
DTSTAMP:20260423T081542
CREATED:20240113T072610Z
LAST-MODIFIED:20240113T072610Z
UID:6643-1705968000-1705968000@beltonwoodsgolfclub.co.uk
SUMMARY:Woods Course closed - rested
DESCRIPTION:
URL:https://beltonwoodsgolfclub.co.uk/event/woods-course-closed-rested-2/
CATEGORIES:Woods Course closed - rested
END:VEVENT
BEGIN:VEVENT
DTSTART;TZID=Europe/London:20240122T000000
DTEND;TZID=Europe/London:20240122T000000
DTSTAMP:20260423T081542
CREATED:20240113T072556Z
LAST-MODIFIED:20240113T072556Z
UID:8071-1705881600-1705881600@beltonwoodsgolfclub.co.uk
SUMMARY:Woods Course closed - rested
DESCRIPTION:
URL:https://beltonwoodsgolfclub.co.uk/event/woods-course-closed-rested-19/
CATEGORIES:Woods Course closed - rested
END:VEVENT
BEGIN:VEVENT
DTSTART;TZID=Europe/London:20240122T000000
DTEND;TZID=Europe/London:20240122T000000
DTSTAMP:20260423T081542
CREATED:20240113T072556Z
LAST-MODIFIED:20240113T072556Z
UID:6642-1705881600-1705881600@beltonwoodsgolfclub.co.uk
SUMMARY:Woods Course closed - rested
DESCRIPTION:
URL:https://beltonwoodsgolfclub.co.uk/event/woods-course-closed-rested/
CATEGORIES:Woods Course closed - rested
END:VEVENT
BEGIN:VEVENT
DTSTART;TZID=Europe/London:20240121T080400
DTEND;TZID=Europe/London:20240121T105200
DTSTAMP:20260423T081542
CREATED:20240113T072555Z
LAST-MODIFIED:20240113T072555Z
UID:6641-1705824240-1705834320@beltonwoodsgolfclub.co.uk
SUMMARY:Men’s Winter League R7
DESCRIPTION:
URL:https://beltonwoodsgolfclub.co.uk/event/mens-winter-league-r7-5/
CATEGORIES:Mens Competition
END:VEVENT
BEGIN:VEVENT
DTSTART;TZID=Europe/London:20240121T080400
DTEND;TZID=Europe/London:20240121T105200
DTSTAMP:20260423T081542
CREATED:20240113T072555Z
LAST-MODIFIED:20240113T072555Z
UID:8070-1705824240-1705834320@beltonwoodsgolfclub.co.uk
SUMMARY:Men’s Winter League R7
DESCRIPTION:
URL:https://beltonwoodsgolfclub.co.uk/event/mens-winter-league-r7-5-2/
CATEGORIES:Mens Competition
END:VEVENT
BEGIN:VEVENT
DTSTART;TZID=Europe/London:20240119T000000
DTEND;TZID=Europe/London:20240119T000000
DTSTAMP:20260423T081542
CREATED:20240113T072555Z
LAST-MODIFIED:20240113T072555Z
UID:6640-1705622400-1705622400@beltonwoodsgolfclub.co.uk
SUMMARY:Lakes Course closed - rested
DESCRIPTION:Orange Tees
URL:https://beltonwoodsgolfclub.co.uk/event/lakes-course-closed-rested-5/
CATEGORIES:Lakes Course closed - rested
END:VEVENT
BEGIN:VEVENT
DTSTART;TZID=Europe/London:20240119T000000
DTEND;TZID=Europe/London:20240119T000000
DTSTAMP:20260423T081542
CREATED:20240113T072555Z
LAST-MODIFIED:20240113T072555Z
UID:8069-1705622400-1705622400@beltonwoodsgolfclub.co.uk
SUMMARY:Lakes Course closed - rested
DESCRIPTION:Orange Tees
URL:https://beltonwoodsgolfclub.co.uk/event/lakes-course-closed-rested-5-2/
CATEGORIES:Lakes Course closed - rested
END:VEVENT
BEGIN:VEVENT
DTSTART;TZID=Europe/London:20240118T000000
DTEND;TZID=Europe/London:20240118T000000
DTSTAMP:20260423T081542
CREATED:20240113T072555Z
LAST-MODIFIED:20240113T072555Z
UID:8068-1705536000-1705536000@beltonwoodsgolfclub.co.uk
SUMMARY:Lakes Course closed - rested
DESCRIPTION:
URL:https://beltonwoodsgolfclub.co.uk/event/lakes-course-closed-rested-4-2/
CATEGORIES:Lakes Course closed - rested
END:VEVENT
BEGIN:VEVENT
DTSTART;TZID=Europe/London:20240118T000000
DTEND;TZID=Europe/London:20240118T000000
DTSTAMP:20260423T081542
CREATED:20240113T072555Z
LAST-MODIFIED:20240113T072555Z
UID:6639-1705536000-1705536000@beltonwoodsgolfclub.co.uk
SUMMARY:Lakes Course closed - rested
DESCRIPTION:
URL:https://beltonwoodsgolfclub.co.uk/event/lakes-course-closed-rested-4/
CATEGORIES:Lakes Course closed - rested
END:VEVENT
BEGIN:VEVENT
DTSTART;TZID=Europe/London:20240117T000000
DTEND;TZID=Europe/London:20240117T000000
DTSTAMP:20260423T081542
CREATED:20240113T072554Z
LAST-MODIFIED:20240113T072554Z
UID:6638-1705449600-1705449600@beltonwoodsgolfclub.co.uk
SUMMARY:Lakes Course closed - rested
DESCRIPTION:
URL:https://beltonwoodsgolfclub.co.uk/event/lakes-course-closed-rested-3/
CATEGORIES:Lakes Course closed - rested
END:VEVENT
BEGIN:VEVENT
DTSTART;TZID=Europe/London:20240117T000000
DTEND;TZID=Europe/London:20240117T000000
DTSTAMP:20260423T081542
CREATED:20240113T072554Z
LAST-MODIFIED:20240113T072554Z
UID:8067-1705449600-1705449600@beltonwoodsgolfclub.co.uk
SUMMARY:Lakes Course closed - rested
DESCRIPTION:
URL:https://beltonwoodsgolfclub.co.uk/event/lakes-course-closed-rested-3-2/
CATEGORIES:Lakes Course closed - rested
END:VEVENT
BEGIN:VEVENT
DTSTART;TZID=Europe/London:20240116T000000
DTEND;TZID=Europe/London:20240116T000000
DTSTAMP:20260423T081542
CREATED:20240113T072554Z
LAST-MODIFIED:20240113T072554Z
UID:6637-1705363200-1705363200@beltonwoodsgolfclub.co.uk
SUMMARY:Ladies AGM
DESCRIPTION:
URL:https://beltonwoodsgolfclub.co.uk/event/ladies-agm/
CATEGORIES:Lakes Course closed - rested
END:VEVENT
BEGIN:VEVENT
DTSTART;TZID=Europe/London:20240116T000000
DTEND;TZID=Europe/London:20240116T000000
DTSTAMP:20260423T081542
CREATED:20240113T072554Z
LAST-MODIFIED:20240113T072554Z
UID:8066-1705363200-1705363200@beltonwoodsgolfclub.co.uk
SUMMARY:Ladies AGM
DESCRIPTION:
URL:https://beltonwoodsgolfclub.co.uk/event/ladies-agm-2/
CATEGORIES:Lakes Course closed - rested
END:VEVENT
BEGIN:VEVENT
DTSTART;TZID=Europe/London:20240116T000000
DTEND;TZID=Europe/London:20240116T000000
DTSTAMP:20260423T081542
CREATED:20240113T072553Z
LAST-MODIFIED:20240113T072553Z
UID:6636-1705363200-1705363200@beltonwoodsgolfclub.co.uk
SUMMARY:Lakes Course closed - rested
DESCRIPTION:
URL:https://beltonwoodsgolfclub.co.uk/event/lakes-course-closed-rested-2/
CATEGORIES:Lakes Course closed - rested
END:VEVENT
BEGIN:VEVENT
DTSTART;TZID=Europe/London:20240116T000000
DTEND;TZID=Europe/London:20240116T000000
DTSTAMP:20260423T081542
CREATED:20240113T072553Z
LAST-MODIFIED:20240113T072553Z
UID:8065-1705363200-1705363200@beltonwoodsgolfclub.co.uk
SUMMARY:Lakes Course closed - rested
DESCRIPTION:
URL:https://beltonwoodsgolfclub.co.uk/event/lakes-course-closed-rested-2-2/
CATEGORIES:Lakes Course closed - rested
END:VEVENT
BEGIN:VEVENT
DTSTART;TZID=Europe/London:20240115T000000
DTEND;TZID=Europe/London:20240115T000000
DTSTAMP:20260423T081542
CREATED:20240113T072553Z
LAST-MODIFIED:20240113T072553Z
UID:8064-1705276800-1705276800@beltonwoodsgolfclub.co.uk
SUMMARY:Lakes Course closed - rested
DESCRIPTION:
URL:https://beltonwoodsgolfclub.co.uk/event/lakes-course-closed-rested-24/
CATEGORIES:Lakes Course closed - rested
END:VEVENT
BEGIN:VEVENT
DTSTART;TZID=Europe/London:20240115T000000
DTEND;TZID=Europe/London:20240115T000000
DTSTAMP:20260423T081542
CREATED:20240113T072553Z
LAST-MODIFIED:20240113T072553Z
UID:6635-1705276800-1705276800@beltonwoodsgolfclub.co.uk
SUMMARY:Lakes Course closed - rested
DESCRIPTION:
URL:https://beltonwoodsgolfclub.co.uk/event/lakes-course-closed-rested/
CATEGORIES:Lakes Course closed - rested
END:VEVENT
BEGIN:VEVENT
DTSTART;TZID=Europe/London:20240114T080400
DTEND;TZID=Europe/London:20240114T105200
DTSTAMP:20260423T081542
CREATED:20240113T072553Z
LAST-MODIFIED:20240113T072553Z
UID:8063-1705219440-1705229520@beltonwoodsgolfclub.co.uk
SUMMARY:Men’s Winter League R6
DESCRIPTION:Orange Tees
URL:https://beltonwoodsgolfclub.co.uk/event/mens-winter-league-r6-4-2/
CATEGORIES:Mens Competition
END:VEVENT
BEGIN:VEVENT
DTSTART;TZID=Europe/London:20240114T080400
DTEND;TZID=Europe/London:20240114T105200
DTSTAMP:20260423T081542
CREATED:20240113T072553Z
LAST-MODIFIED:20240113T072553Z
UID:6634-1705219440-1705229520@beltonwoodsgolfclub.co.uk
SUMMARY:Men’s Winter League R6
DESCRIPTION:Orange Tees
URL:https://beltonwoodsgolfclub.co.uk/event/mens-winter-league-r6-4/
CATEGORIES:Mens Competition
END:VEVENT
BEGIN:VEVENT
DTSTART;TZID=Europe/London:20240109T191500
DTEND;TZID=Europe/London:20240109T211500
DTSTAMP:20260423T081542
CREATED:20231110T000007Z
LAST-MODIFIED:20231110T000126Z
UID:6434-1704827700-1704834900@beltonwoodsgolfclub.co.uk
SUMMARY:Mens AGM 2024
DESCRIPTION:
URL:https://beltonwoodsgolfclub.co.uk/event/mens-agm-2024/
CATEGORIES:Mens Competition
END:VEVENT
BEGIN:VEVENT
DTSTART;TZID=Europe/London:20240109T191500
DTEND;TZID=Europe/London:20240109T211500
DTSTAMP:20260423T081542
CREATED:20231110T000007Z
LAST-MODIFIED:20231110T000007Z
UID:8061-1704827700-1704834900@beltonwoodsgolfclub.co.uk
SUMMARY:Mens AGM 2024
DESCRIPTION:
URL:https://beltonwoodsgolfclub.co.uk/event/mens-agm-2024-2/
CATEGORIES:Mens Competition
END:VEVENT
BEGIN:VEVENT
DTSTART;TZID=Europe/London:20240107T080400
DTEND;TZID=Europe/London:20240107T105200
DTSTAMP:20260423T081542
CREATED:20240113T072553Z
LAST-MODIFIED:20240113T072553Z
UID:8062-1704614640-1704624720@beltonwoodsgolfclub.co.uk
SUMMARY:Men's Winter League R5
DESCRIPTION:Orange Tees
URL:https://beltonwoodsgolfclub.co.uk/event/mens-winter-league-r5-4-2/
CATEGORIES:Mens Competition
END:VEVENT
BEGIN:VEVENT
DTSTART;TZID=Europe/London:20240107T080400
DTEND;TZID=Europe/London:20240107T105200
DTSTAMP:20260423T081542
CREATED:20240113T072553Z
LAST-MODIFIED:20240113T072553Z
UID:6633-1704614640-1704624720@beltonwoodsgolfclub.co.uk
SUMMARY:Men's Winter League R5
DESCRIPTION:Orange Tees
URL:https://beltonwoodsgolfclub.co.uk/event/mens-winter-league-r5-4/
CATEGORIES:Mens Competition
END:VEVENT
BEGIN:VEVENT
DTSTART;TZID=Europe/London:20231213T091600
DTEND;TZID=Europe/London:20231213T091600
DTSTAMP:20260423T081542
CREATED:20230102T224326Z
LAST-MODIFIED:20230102T224326Z
UID:8031-1702458960-1702458960@beltonwoodsgolfclub.co.uk
SUMMARY:Festive Fun Seniors
DESCRIPTION:8 Tee Times
URL:https://beltonwoodsgolfclub.co.uk/event/festive-fun-seniors-2-2/
CATEGORIES:Ladies Competition
END:VEVENT
BEGIN:VEVENT
DTSTART;TZID=Europe/London:20231213T091600
DTEND;TZID=Europe/London:20231213T091600
DTSTAMP:20260423T081542
CREATED:20230102T224326Z
LAST-MODIFIED:20230102T224326Z
UID:5309-1702458960-1702458960@beltonwoodsgolfclub.co.uk
SUMMARY:Festive Fun Seniors
DESCRIPTION:8 Tee Times
URL:https://beltonwoodsgolfclub.co.uk/event/festive-fun-seniors-2/
CATEGORIES:Ladies Competition
END:VEVENT
BEGIN:VEVENT
DTSTART;TZID=Europe/London:20231210T080400
DTEND;TZID=Europe/London:20231210T105200
DTSTAMP:20260423T081542
CREATED:20221122T235854Z
LAST-MODIFIED:20221122T235854Z
UID:7888-1702195440-1702205520@beltonwoodsgolfclub.co.uk
SUMMARY:Mens Stableford
DESCRIPTION:Yellow Tees
URL:https://beltonwoodsgolfclub.co.uk/event/mens-stableford-26-2/
CATEGORIES:Mens Competition
END:VEVENT
BEGIN:VEVENT
DTSTART;TZID=Europe/London:20231210T080400
DTEND;TZID=Europe/London:20231210T105200
DTSTAMP:20260423T081542
CREATED:20221122T235854Z
LAST-MODIFIED:20221122T235854Z
UID:5000-1702195440-1702205520@beltonwoodsgolfclub.co.uk
SUMMARY:Mens Stableford
DESCRIPTION:Yellow Tees
URL:https://beltonwoodsgolfclub.co.uk/event/mens-stableford-26/
CATEGORIES:Mens Competition
END:VEVENT
BEGIN:VEVENT
DTSTART;TZID=Europe/London:20231209T092400
DTEND;TZID=Europe/London:20231209T092400
DTSTAMP:20260423T081542
CREATED:20230102T224326Z
LAST-MODIFIED:20230102T224326Z
UID:5308-1702113840-1702113840@beltonwoodsgolfclub.co.uk
SUMMARY:Festive Putt and Take & Lunch
DESCRIPTION:8 Tee Times
URL:https://beltonwoodsgolfclub.co.uk/event/festive-putt-and-take-lunch/
CATEGORIES:Ladies Competition
END:VEVENT
BEGIN:VEVENT
DTSTART;TZID=Europe/London:20231209T092400
DTEND;TZID=Europe/London:20231209T092400
DTSTAMP:20260423T081542
CREATED:20230102T224326Z
LAST-MODIFIED:20230102T224326Z
UID:8030-1702113840-1702113840@beltonwoodsgolfclub.co.uk
SUMMARY:Festive Putt and Take & Lunch
DESCRIPTION:8 Tee Times
URL:https://beltonwoodsgolfclub.co.uk/event/festive-putt-and-take-lunch-2/
CATEGORIES:Ladies Competition
END:VEVENT
END:VCALENDAR