BEGIN:VCALENDAR
VERSION:2.0
PRODID:-//Belton Woods Golf Club - ECPv6.15.1.1//NONSGML v1.0//EN
CALSCALE:GREGORIAN
METHOD:PUBLISH
X-WR-CALNAME:Belton Woods Golf Club
X-ORIGINAL-URL:https://beltonwoodsgolfclub.co.uk
X-WR-CALDESC:Events for Belton Woods Golf Club
REFRESH-INTERVAL;VALUE=DURATION:PT1H
X-Robots-Tag:noindex
X-PUBLISHED-TTL:PT1H
BEGIN:VTIMEZONE
TZID:Europe/London
BEGIN:DAYLIGHT
TZOFFSETFROM:+0000
TZOFFSETTO:+0100
TZNAME:BST
DTSTART:20240331T010000
END:DAYLIGHT
BEGIN:STANDARD
TZOFFSETFROM:+0100
TZOFFSETTO:+0000
TZNAME:GMT
DTSTART:20241027T010000
END:STANDARD
END:VTIMEZONE
BEGIN:VEVENT
DTSTART;TZID=Europe/London:20240218T080400
DTEND;TZID=Europe/London:20240218T105200
DTSTAMP:20260419T222151
CREATED:20240113T072650Z
LAST-MODIFIED:20240113T072650Z
UID:8085-1708243440-1708253520@beltonwoodsgolfclub.co.uk
SUMMARY:Mens Individual Stableford
DESCRIPTION:Orange Tees
URL:https://beltonwoodsgolfclub.co.uk/event/mens-individual-stableford-6-2/
CATEGORIES:Mens Competition
END:VEVENT
BEGIN:VEVENT
DTSTART;TZID=Europe/London:20240218T080400
DTEND;TZID=Europe/London:20240218T105200
DTSTAMP:20260419T222151
CREATED:20240113T072650Z
LAST-MODIFIED:20240113T072650Z
UID:6656-1708243440-1708253520@beltonwoodsgolfclub.co.uk
SUMMARY:Mens Individual Stableford
DESCRIPTION:Orange Tees
URL:https://beltonwoodsgolfclub.co.uk/event/mens-individual-stableford-6/
CATEGORIES:Mens Competition
END:VEVENT
BEGIN:VEVENT
DTSTART;TZID=Europe/London:20240217T093200
DTEND;TZID=Europe/London:20240217T104400
DTSTAMP:20260419T222151
CREATED:20240113T072649Z
LAST-MODIFIED:20240113T072649Z
UID:8084-1708162320-1708166640@beltonwoodsgolfclub.co.uk
SUMMARY:Valentine's Day Mixed
DESCRIPTION:Orange Tees
URL:https://beltonwoodsgolfclub.co.uk/event/valentines-day-mixed-4-2/
CATEGORIES:Mixed/Junior's
END:VEVENT
BEGIN:VEVENT
DTSTART;TZID=Europe/London:20240217T093200
DTEND;TZID=Europe/London:20240217T104400
DTSTAMP:20260419T222151
CREATED:20240113T072649Z
LAST-MODIFIED:20240113T072649Z
UID:6655-1708162320-1708166640@beltonwoodsgolfclub.co.uk
SUMMARY:Valentine's Day Mixed
DESCRIPTION:Orange Tees
URL:https://beltonwoodsgolfclub.co.uk/event/valentines-day-mixed-4/
CATEGORIES:Mixed/Junior's
END:VEVENT
BEGIN:VEVENT
DTSTART;TZID=Europe/London:20240211T080400
DTEND;TZID=Europe/London:20240211T105200
DTSTAMP:20260419T222151
CREATED:20240113T072649Z
LAST-MODIFIED:20240113T072649Z
UID:8083-1707638640-1707648720@beltonwoodsgolfclub.co.uk
SUMMARY:Men’s Winter League R9
DESCRIPTION:
URL:https://beltonwoodsgolfclub.co.uk/event/mens-winter-league-r9-4-2/
CATEGORIES:Mens Competition
END:VEVENT
BEGIN:VEVENT
DTSTART;TZID=Europe/London:20240211T080400
DTEND;TZID=Europe/London:20240211T105200
DTSTAMP:20260419T222151
CREATED:20240113T072649Z
LAST-MODIFIED:20240113T072649Z
UID:6654-1707638640-1707648720@beltonwoodsgolfclub.co.uk
SUMMARY:Men’s Winter League R9
DESCRIPTION:
URL:https://beltonwoodsgolfclub.co.uk/event/mens-winter-league-r9-4/
CATEGORIES:Mens Competition
END:VEVENT
BEGIN:VEVENT
DTSTART;TZID=Europe/London:20240204T080400
DTEND;TZID=Europe/London:20240204T105200
DTSTAMP:20260419T222151
CREATED:20240113T072649Z
LAST-MODIFIED:20240113T072649Z
UID:8082-1707033840-1707043920@beltonwoodsgolfclub.co.uk
SUMMARY:Men’s Winter League R8
DESCRIPTION:Orange Tees
URL:https://beltonwoodsgolfclub.co.uk/event/mens-winter-league-r8-4-2/
CATEGORIES:Mens Competition
END:VEVENT
BEGIN:VEVENT
DTSTART;TZID=Europe/London:20240204T080400
DTEND;TZID=Europe/London:20240204T105200
DTSTAMP:20260419T222151
CREATED:20240113T072649Z
LAST-MODIFIED:20240113T072649Z
UID:6653-1707033840-1707043920@beltonwoodsgolfclub.co.uk
SUMMARY:Men’s Winter League R8
DESCRIPTION:Orange Tees
URL:https://beltonwoodsgolfclub.co.uk/event/mens-winter-league-r8-4/
CATEGORIES:Mens Competition
END:VEVENT
BEGIN:VEVENT
DTSTART;TZID=Europe/London:20240202T000000
DTEND;TZID=Europe/London:20240202T000000
DTSTAMP:20260419T222151
CREATED:20240113T072635Z
LAST-MODIFIED:20240113T072635Z
UID:6652-1706832000-1706832000@beltonwoodsgolfclub.co.uk
SUMMARY:Lakes Course closed - rested
DESCRIPTION:Orange Tees
URL:https://beltonwoodsgolfclub.co.uk/event/lakes-course-closed-rested-10/
CATEGORIES:Lakes Course closed - rested
END:VEVENT
BEGIN:VEVENT
DTSTART;TZID=Europe/London:20240202T000000
DTEND;TZID=Europe/London:20240202T000000
DTSTAMP:20260419T222151
CREATED:20240113T072635Z
LAST-MODIFIED:20240113T072635Z
UID:8081-1706832000-1706832000@beltonwoodsgolfclub.co.uk
SUMMARY:Lakes Course closed - rested
DESCRIPTION:Orange Tees
URL:https://beltonwoodsgolfclub.co.uk/event/lakes-course-closed-rested-10-2/
CATEGORIES:Lakes Course closed - rested
END:VEVENT
BEGIN:VEVENT
DTSTART;TZID=Europe/London:20240201T000000
DTEND;TZID=Europe/London:20240201T000000
DTSTAMP:20260419T222151
CREATED:20240113T072635Z
LAST-MODIFIED:20240113T072635Z
UID:8080-1706745600-1706745600@beltonwoodsgolfclub.co.uk
SUMMARY:Lakes Course closed - rested
DESCRIPTION:
URL:https://beltonwoodsgolfclub.co.uk/event/lakes-course-closed-rested-9-2/
CATEGORIES:Lakes Course closed - rested
END:VEVENT
BEGIN:VEVENT
DTSTART;TZID=Europe/London:20240201T000000
DTEND;TZID=Europe/London:20240201T000000
DTSTAMP:20260419T222151
CREATED:20240113T072635Z
LAST-MODIFIED:20240113T072635Z
UID:6651-1706745600-1706745600@beltonwoodsgolfclub.co.uk
SUMMARY:Lakes Course closed - rested
DESCRIPTION:
URL:https://beltonwoodsgolfclub.co.uk/event/lakes-course-closed-rested-9/
CATEGORIES:Lakes Course closed - rested
END:VEVENT
BEGIN:VEVENT
DTSTART;TZID=Europe/London:20240131T000000
DTEND;TZID=Europe/London:20240131T000000
DTSTAMP:20260419T222151
CREATED:20240113T072634Z
LAST-MODIFIED:20240113T072634Z
UID:6650-1706659200-1706659200@beltonwoodsgolfclub.co.uk
SUMMARY:Lakes Course closed - rested
DESCRIPTION:
URL:https://beltonwoodsgolfclub.co.uk/event/lakes-course-closed-rested-8/
CATEGORIES:Lakes Course closed - rested
END:VEVENT
BEGIN:VEVENT
DTSTART;TZID=Europe/London:20240131T000000
DTEND;TZID=Europe/London:20240131T000000
DTSTAMP:20260419T222151
CREATED:20240113T072634Z
LAST-MODIFIED:20240113T072634Z
UID:8079-1706659200-1706659200@beltonwoodsgolfclub.co.uk
SUMMARY:Lakes Course closed - rested
DESCRIPTION:
URL:https://beltonwoodsgolfclub.co.uk/event/lakes-course-closed-rested-8-2/
CATEGORIES:Lakes Course closed - rested
END:VEVENT
BEGIN:VEVENT
DTSTART;TZID=Europe/London:20240130T000000
DTEND;TZID=Europe/London:20240130T000000
DTSTAMP:20260419T222151
CREATED:20240113T072634Z
LAST-MODIFIED:20240113T072634Z
UID:8078-1706572800-1706572800@beltonwoodsgolfclub.co.uk
SUMMARY:Lakes Course closed - rested
DESCRIPTION:
URL:https://beltonwoodsgolfclub.co.uk/event/lakes-course-closed-rested-7-2/
CATEGORIES:Lakes Course closed - rested
END:VEVENT
BEGIN:VEVENT
DTSTART;TZID=Europe/London:20240130T000000
DTEND;TZID=Europe/London:20240130T000000
DTSTAMP:20260419T222151
CREATED:20240113T072634Z
LAST-MODIFIED:20240113T072634Z
UID:6649-1706572800-1706572800@beltonwoodsgolfclub.co.uk
SUMMARY:Lakes Course closed - rested
DESCRIPTION:
URL:https://beltonwoodsgolfclub.co.uk/event/lakes-course-closed-rested-7/
CATEGORIES:Lakes Course closed - rested
END:VEVENT
BEGIN:VEVENT
DTSTART;TZID=Europe/London:20240129T000000
DTEND;TZID=Europe/London:20240129T000000
DTSTAMP:20260419T222151
CREATED:20240113T072634Z
LAST-MODIFIED:20240113T072634Z
UID:8077-1706486400-1706486400@beltonwoodsgolfclub.co.uk
SUMMARY:Lakes Course closed - rested
DESCRIPTION:
URL:https://beltonwoodsgolfclub.co.uk/event/lakes-course-closed-rested-6-2/
CATEGORIES:Lakes Course closed - rested
END:VEVENT
BEGIN:VEVENT
DTSTART;TZID=Europe/London:20240129T000000
DTEND;TZID=Europe/London:20240129T000000
DTSTAMP:20260419T222151
CREATED:20240113T072634Z
LAST-MODIFIED:20240113T072634Z
UID:6648-1706486400-1706486400@beltonwoodsgolfclub.co.uk
SUMMARY:Lakes Course closed - rested
DESCRIPTION:
URL:https://beltonwoodsgolfclub.co.uk/event/lakes-course-closed-rested-6/
CATEGORIES:Lakes Course closed - rested
END:VEVENT
BEGIN:VEVENT
DTSTART;TZID=Europe/London:20240128T080400
DTEND;TZID=Europe/London:20240128T105200
DTSTAMP:20260419T222151
CREATED:20240113T072610Z
LAST-MODIFIED:20240113T072610Z
UID:8076-1706429040-1706439120@beltonwoodsgolfclub.co.uk
SUMMARY:Men's Stableford
DESCRIPTION:
URL:https://beltonwoodsgolfclub.co.uk/event/mens-stableford-27-2/
CATEGORIES:Mens Competition
END:VEVENT
BEGIN:VEVENT
DTSTART;TZID=Europe/London:20240128T080400
DTEND;TZID=Europe/London:20240128T105200
DTSTAMP:20260419T222151
CREATED:20240113T072610Z
LAST-MODIFIED:20240113T072610Z
UID:6647-1706429040-1706439120@beltonwoodsgolfclub.co.uk
SUMMARY:Men's Stableford
DESCRIPTION:
URL:https://beltonwoodsgolfclub.co.uk/event/mens-stableford-27/
CATEGORIES:Mens Competition
END:VEVENT
BEGIN:VEVENT
DTSTART;TZID=Europe/London:20240126T000000
DTEND;TZID=Europe/London:20240126T000000
DTSTAMP:20260419T222151
CREATED:20240113T072610Z
LAST-MODIFIED:20240113T072610Z
UID:8075-1706227200-1706227200@beltonwoodsgolfclub.co.uk
SUMMARY:Woods Course closed - rested
DESCRIPTION:Orange Tees
URL:https://beltonwoodsgolfclub.co.uk/event/woods-course-closed-rested-5-2/
CATEGORIES:Woods Course closed - rested
END:VEVENT
BEGIN:VEVENT
DTSTART;TZID=Europe/London:20240126T000000
DTEND;TZID=Europe/London:20240126T000000
DTSTAMP:20260419T222151
CREATED:20240113T072610Z
LAST-MODIFIED:20240113T072610Z
UID:6646-1706227200-1706227200@beltonwoodsgolfclub.co.uk
SUMMARY:Woods Course closed - rested
DESCRIPTION:Orange Tees
URL:https://beltonwoodsgolfclub.co.uk/event/woods-course-closed-rested-5/
CATEGORIES:Woods Course closed - rested
END:VEVENT
BEGIN:VEVENT
DTSTART;TZID=Europe/London:20240125T000000
DTEND;TZID=Europe/London:20240125T000000
DTSTAMP:20260419T222151
CREATED:20240113T072610Z
LAST-MODIFIED:20240113T072610Z
UID:8074-1706140800-1706140800@beltonwoodsgolfclub.co.uk
SUMMARY:Woods Course closed - rested
DESCRIPTION:
URL:https://beltonwoodsgolfclub.co.uk/event/woods-course-closed-rested-4-2/
CATEGORIES:Woods Course closed - rested
END:VEVENT
BEGIN:VEVENT
DTSTART;TZID=Europe/London:20240125T000000
DTEND;TZID=Europe/London:20240125T000000
DTSTAMP:20260419T222151
CREATED:20240113T072610Z
LAST-MODIFIED:20240113T072610Z
UID:6645-1706140800-1706140800@beltonwoodsgolfclub.co.uk
SUMMARY:Woods Course closed - rested
DESCRIPTION:
URL:https://beltonwoodsgolfclub.co.uk/event/woods-course-closed-rested-4/
CATEGORIES:Woods Course closed - rested
END:VEVENT
BEGIN:VEVENT
DTSTART;TZID=Europe/London:20240124T000000
DTEND;TZID=Europe/London:20240124T000000
DTSTAMP:20260419T222151
CREATED:20240113T072610Z
LAST-MODIFIED:20240113T072610Z
UID:6644-1706054400-1706054400@beltonwoodsgolfclub.co.uk
SUMMARY:Woods Course closed - rested
DESCRIPTION:
URL:https://beltonwoodsgolfclub.co.uk/event/woods-course-closed-rested-3/
CATEGORIES:Woods Course closed - rested
END:VEVENT
BEGIN:VEVENT
DTSTART;TZID=Europe/London:20240124T000000
DTEND;TZID=Europe/London:20240124T000000
DTSTAMP:20260419T222151
CREATED:20240113T072610Z
LAST-MODIFIED:20240113T072610Z
UID:8073-1706054400-1706054400@beltonwoodsgolfclub.co.uk
SUMMARY:Woods Course closed - rested
DESCRIPTION:
URL:https://beltonwoodsgolfclub.co.uk/event/woods-course-closed-rested-3-2/
CATEGORIES:Woods Course closed - rested
END:VEVENT
BEGIN:VEVENT
DTSTART;TZID=Europe/London:20240123T000000
DTEND;TZID=Europe/London:20240123T000000
DTSTAMP:20260419T222151
CREATED:20240113T072610Z
LAST-MODIFIED:20240113T072610Z
UID:8072-1705968000-1705968000@beltonwoodsgolfclub.co.uk
SUMMARY:Woods Course closed - rested
DESCRIPTION:
URL:https://beltonwoodsgolfclub.co.uk/event/woods-course-closed-rested-2-2/
CATEGORIES:Woods Course closed - rested
END:VEVENT
BEGIN:VEVENT
DTSTART;TZID=Europe/London:20240123T000000
DTEND;TZID=Europe/London:20240123T000000
DTSTAMP:20260419T222151
CREATED:20240113T072610Z
LAST-MODIFIED:20240113T072610Z
UID:6643-1705968000-1705968000@beltonwoodsgolfclub.co.uk
SUMMARY:Woods Course closed - rested
DESCRIPTION:
URL:https://beltonwoodsgolfclub.co.uk/event/woods-course-closed-rested-2/
CATEGORIES:Woods Course closed - rested
END:VEVENT
BEGIN:VEVENT
DTSTART;TZID=Europe/London:20240122T000000
DTEND;TZID=Europe/London:20240122T000000
DTSTAMP:20260419T222151
CREATED:20240113T072556Z
LAST-MODIFIED:20240113T072556Z
UID:6642-1705881600-1705881600@beltonwoodsgolfclub.co.uk
SUMMARY:Woods Course closed - rested
DESCRIPTION:
URL:https://beltonwoodsgolfclub.co.uk/event/woods-course-closed-rested/
CATEGORIES:Woods Course closed - rested
END:VEVENT
BEGIN:VEVENT
DTSTART;TZID=Europe/London:20240122T000000
DTEND;TZID=Europe/London:20240122T000000
DTSTAMP:20260419T222151
CREATED:20240113T072556Z
LAST-MODIFIED:20240113T072556Z
UID:8071-1705881600-1705881600@beltonwoodsgolfclub.co.uk
SUMMARY:Woods Course closed - rested
DESCRIPTION:
URL:https://beltonwoodsgolfclub.co.uk/event/woods-course-closed-rested-19/
CATEGORIES:Woods Course closed - rested
END:VEVENT
END:VCALENDAR