BEGIN:VCALENDAR
VERSION:2.0
PRODID:-//Belton Woods Golf Club - ECPv6.15.1.1//NONSGML v1.0//EN
CALSCALE:GREGORIAN
METHOD:PUBLISH
X-WR-CALNAME:Belton Woods Golf Club
X-ORIGINAL-URL:https://beltonwoodsgolfclub.co.uk
X-WR-CALDESC:Events for Belton Woods Golf Club
REFRESH-INTERVAL;VALUE=DURATION:PT1H
X-Robots-Tag:noindex
X-PUBLISHED-TTL:PT1H
BEGIN:VTIMEZONE
TZID:Europe/London
BEGIN:DAYLIGHT
TZOFFSETFROM:+0000
TZOFFSETTO:+0100
TZNAME:BST
DTSTART:20230326T010000
END:DAYLIGHT
BEGIN:STANDARD
TZOFFSETFROM:+0100
TZOFFSETTO:+0000
TZNAME:GMT
DTSTART:20231029T010000
END:STANDARD
END:VTIMEZONE
BEGIN:VEVENT
DTSTART;TZID=Europe/London:20230812T130000
DTEND;TZID=Europe/London:20230812T140000
DTSTAMP:20260425T112711
CREATED:20221122T235941Z
LAST-MODIFIED:20221122T235941Z
UID:7896-1691845200-1691848800@beltonwoodsgolfclub.co.uk
SUMMARY:A Team Home v Spalding
DESCRIPTION:White Tees
URL:https://beltonwoodsgolfclub.co.uk/event/a-team-home-v-spalding-2/
CATEGORIES:Mens Team
END:VEVENT
BEGIN:VEVENT
DTSTART;TZID=Europe/London:20230812T130000
DTEND;TZID=Europe/London:20230812T140000
DTSTAMP:20260425T112711
CREATED:20221122T235941Z
LAST-MODIFIED:20221122T235941Z
UID:5010-1691845200-1691848800@beltonwoodsgolfclub.co.uk
SUMMARY:A Team Home v Spalding
DESCRIPTION:White Tees
URL:https://beltonwoodsgolfclub.co.uk/event/a-team-home-v-spalding/
CATEGORIES:Mens Team
END:VEVENT
BEGIN:VEVENT
DTSTART;TZID=Europe/London:20230812T130000
DTEND;TZID=Europe/London:20230812T140000
DTSTAMP:20260425T112711
CREATED:20221130T231512Z
LAST-MODIFIED:20221130T231512Z
UID:7906-1691845200-1691848800@beltonwoodsgolfclub.co.uk
SUMMARY:B Team Away v Burghley Park
DESCRIPTION:White Tees
URL:https://beltonwoodsgolfclub.co.uk/event/b-team-away-v-burghley-park-2-2/
CATEGORIES:Mens Team
END:VEVENT
BEGIN:VEVENT
DTSTART;TZID=Europe/London:20230812T130000
DTEND;TZID=Europe/London:20230812T140000
DTSTAMP:20260425T112711
CREATED:20221130T231512Z
LAST-MODIFIED:20230115T233120Z
UID:5060-1691845200-1691848800@beltonwoodsgolfclub.co.uk
SUMMARY:B Team Away v Burghley Park
DESCRIPTION:White Tees
URL:https://beltonwoodsgolfclub.co.uk/event/b-team-away-v-burghley-park-2/
CATEGORIES:Mens Team
END:VEVENT
BEGIN:VEVENT
DTSTART;TZID=Europe/London:20230812T130000
DTEND;TZID=Europe/London:20230812T140000
DTSTAMP:20260425T112711
CREATED:20221130T231513Z
LAST-MODIFIED:20221130T231513Z
UID:7908-1691845200-1691848800@beltonwoodsgolfclub.co.uk
SUMMARY:B Team Away v  Burghley Park
DESCRIPTION:White Tees
URL:https://beltonwoodsgolfclub.co.uk/event/b-team-away-v-kirton-holme-4/
CATEGORIES:Mens Team
END:VEVENT
BEGIN:VEVENT
DTSTART;TZID=Europe/London:20230812T130000
DTEND;TZID=Europe/London:20230812T140000
DTSTAMP:20260425T112711
CREATED:20221130T231513Z
LAST-MODIFIED:20221228T183028Z
UID:5062-1691845200-1691848800@beltonwoodsgolfclub.co.uk
SUMMARY:B Team Away v  Burghley Park
DESCRIPTION:White Tees
URL:https://beltonwoodsgolfclub.co.uk/event/b-team-away-v-kirton-holme/
CATEGORIES:Mens Team
END:VEVENT
BEGIN:VEVENT
DTSTART;TZID=Europe/London:20230819T130000
DTEND;TZID=Europe/London:20230819T140000
DTSTAMP:20260425T112711
CREATED:20221126T004422Z
LAST-MODIFIED:20221126T004422Z
UID:7897-1692450000-1692453600@beltonwoodsgolfclub.co.uk
SUMMARY:A Team Home v Greetham Valley
DESCRIPTION:White Tees
URL:https://beltonwoodsgolfclub.co.uk/event/a-team-home-v-greetham-valley-2/
CATEGORIES:Mens Team
END:VEVENT
BEGIN:VEVENT
DTSTART;TZID=Europe/London:20230819T130000
DTEND;TZID=Europe/London:20230819T140000
DTSTAMP:20260425T112711
CREATED:20221126T004422Z
LAST-MODIFIED:20221126T004422Z
UID:5019-1692450000-1692453600@beltonwoodsgolfclub.co.uk
SUMMARY:A Team Home v Greetham Valley
DESCRIPTION:White Tees
URL:https://beltonwoodsgolfclub.co.uk/event/a-team-home-v-greetham-valley/
CATEGORIES:Mens Team
END:VEVENT
BEGIN:VEVENT
DTSTART;TZID=Europe/London:20230819T130000
DTEND;TZID=Europe/London:20230819T140000
DTSTAMP:20260425T112711
CREATED:20221130T231513Z
LAST-MODIFIED:20221130T231513Z
UID:7909-1692450000-1692453600@beltonwoodsgolfclub.co.uk
SUMMARY:B Team - Free Week
DESCRIPTION:White Tees
URL:https://beltonwoodsgolfclub.co.uk/event/b-team-away-v-kirton-holme-2-2/
CATEGORIES:Mens Team
END:VEVENT
BEGIN:VEVENT
DTSTART;TZID=Europe/London:20230819T130000
DTEND;TZID=Europe/London:20230819T140000
DTSTAMP:20260425T112711
CREATED:20221130T231513Z
LAST-MODIFIED:20221228T183414Z
UID:5063-1692450000-1692453600@beltonwoodsgolfclub.co.uk
SUMMARY:B Team - Free Week
DESCRIPTION:White Tees
URL:https://beltonwoodsgolfclub.co.uk/event/b-team-away-v-kirton-holme-2/
CATEGORIES:Mens Team
END:VEVENT
END:VCALENDAR