BEGIN:VCALENDAR
VERSION:2.0
PRODID:-//Belton Woods Golf Club - ECPv6.15.1.1//NONSGML v1.0//EN
CALSCALE:GREGORIAN
METHOD:PUBLISH
X-ORIGINAL-URL:https://beltonwoodsgolfclub.co.uk
X-WR-CALDESC:Events for Belton Woods Golf Club
REFRESH-INTERVAL;VALUE=DURATION:PT1H
X-Robots-Tag:noindex
X-PUBLISHED-TTL:PT1H
BEGIN:VTIMEZONE
TZID:Europe/London
BEGIN:DAYLIGHT
TZOFFSETFROM:+0000
TZOFFSETTO:+0100
TZNAME:BST
DTSTART:20230326T010000
END:DAYLIGHT
BEGIN:STANDARD
TZOFFSETFROM:+0100
TZOFFSETTO:+0000
TZNAME:GMT
DTSTART:20231029T010000
END:STANDARD
END:VTIMEZONE
BEGIN:VEVENT
DTSTART;TZID=Europe/London:20230603T130000
DTEND;TZID=Europe/London:20230603T140000
DTSTAMP:20260425T151709
CREATED:20221130T231512Z
LAST-MODIFIED:20221130T231512Z
UID:7907-1685797200-1685800800@beltonwoodsgolfclub.co.uk
SUMMARY:B Team Home v Kirton Holme
DESCRIPTION:White Tees
URL:https://beltonwoodsgolfclub.co.uk/event/b-team-free-week-2/
CATEGORIES:Mens Team
END:VEVENT
BEGIN:VEVENT
DTSTART;TZID=Europe/London:20230603T130000
DTEND;TZID=Europe/London:20230603T140000
DTSTAMP:20260425T151709
CREATED:20221130T231512Z
LAST-MODIFIED:20230115T232815Z
UID:5061-1685797200-1685800800@beltonwoodsgolfclub.co.uk
SUMMARY:B Team Home v Kirton Holme
DESCRIPTION:White Tees
URL:https://beltonwoodsgolfclub.co.uk/event/b-team-free-week/
CATEGORIES:Mens Team
END:VEVENT
BEGIN:VEVENT
DTSTART;TZID=Europe/London:20230610T130000
DTEND;TZID=Europe/London:20230610T140000
DTSTAMP:20260425T151709
CREATED:20221122T235940Z
LAST-MODIFIED:20221122T235940Z
UID:7893-1686402000-1686405600@beltonwoodsgolfclub.co.uk
SUMMARY:A Team - Free Week
DESCRIPTION:White Tees
URL:https://beltonwoodsgolfclub.co.uk/event/a-team-free-week-3/
CATEGORIES:Mens Team
END:VEVENT
BEGIN:VEVENT
DTSTART;TZID=Europe/London:20230610T130000
DTEND;TZID=Europe/London:20230610T140000
DTSTAMP:20260425T151709
CREATED:20221122T235940Z
LAST-MODIFIED:20221122T235940Z
UID:5006-1686402000-1686405600@beltonwoodsgolfclub.co.uk
SUMMARY:A Team - Free Week
DESCRIPTION:White Tees
URL:https://beltonwoodsgolfclub.co.uk/event/a-team-free-week/
CATEGORIES:Mens Team
END:VEVENT
BEGIN:VEVENT
DTSTART;TZID=Europe/London:20230610T130000
DTEND;TZID=Europe/London:20230610T140000
DTSTAMP:20260425T151709
CREATED:20221130T231511Z
LAST-MODIFIED:20221130T231511Z
UID:7904-1686402000-1686405600@beltonwoodsgolfclub.co.uk
SUMMARY:B Team Home v Burghley Park
DESCRIPTION:White Tees
URL:https://beltonwoodsgolfclub.co.uk/event/b-team-home-v-burghley-park-2/
CATEGORIES:Mens Team
END:VEVENT
BEGIN:VEVENT
DTSTART;TZID=Europe/London:20230610T130000
DTEND;TZID=Europe/London:20230610T140000
DTSTAMP:20260425T151709
CREATED:20221130T231511Z
LAST-MODIFIED:20221130T231511Z
UID:5058-1686402000-1686405600@beltonwoodsgolfclub.co.uk
SUMMARY:B Team Home v Burghley Park
DESCRIPTION:White Tees
URL:https://beltonwoodsgolfclub.co.uk/event/b-team-home-v-burghley-park/
CATEGORIES:Mens Team
END:VEVENT
BEGIN:VEVENT
DTSTART;TZID=Europe/London:20230617T130000
DTEND;TZID=Europe/London:20230617T140000
DTSTAMP:20260425T151709
CREATED:20221122T235941Z
LAST-MODIFIED:20221122T235941Z
UID:7894-1687006800-1687010400@beltonwoodsgolfclub.co.uk
SUMMARY:A Team Away v Toft
DESCRIPTION:White Tees
URL:https://beltonwoodsgolfclub.co.uk/event/a-team-away-v-toft-2/
CATEGORIES:Mens Team
END:VEVENT
BEGIN:VEVENT
DTSTART;TZID=Europe/London:20230617T130000
DTEND;TZID=Europe/London:20230617T140000
DTSTAMP:20260425T151709
CREATED:20221122T235941Z
LAST-MODIFIED:20221122T235941Z
UID:5007-1687006800-1687010400@beltonwoodsgolfclub.co.uk
SUMMARY:A Team Away v Toft
DESCRIPTION:White Tees
URL:https://beltonwoodsgolfclub.co.uk/event/a-team-away-v-toft/
CATEGORIES:Mens Team
END:VEVENT
BEGIN:VEVENT
DTSTART;TZID=Europe/London:20230617T130000
DTEND;TZID=Europe/London:20230617T140000
DTSTAMP:20260425T151709
CREATED:20221130T231512Z
LAST-MODIFIED:20221130T231512Z
UID:7905-1687006800-1687010400@beltonwoodsgolfclub.co.uk
SUMMARY:B Team Away v South Kyme
DESCRIPTION:White Tees
URL:https://beltonwoodsgolfclub.co.uk/event/b-team-away-v-south-kyme-2-2/
CATEGORIES:Mens Team
END:VEVENT
BEGIN:VEVENT
DTSTART;TZID=Europe/London:20230617T130000
DTEND;TZID=Europe/London:20230617T140000
DTSTAMP:20260425T151709
CREATED:20221130T231512Z
LAST-MODIFIED:20221130T231513Z
UID:5059-1687006800-1687010400@beltonwoodsgolfclub.co.uk
SUMMARY:B Team Away v South Kyme
DESCRIPTION:White Tees
URL:https://beltonwoodsgolfclub.co.uk/event/b-team-away-v-south-kyme-2/
CATEGORIES:Mens Team
END:VEVENT
END:VCALENDAR