BEGIN:VCALENDAR
VERSION:2.0
PRODID:-//Belton Woods Golf Club - ECPv6.15.1.1//NONSGML v1.0//EN
CALSCALE:GREGORIAN
METHOD:PUBLISH
X-WR-CALNAME:Belton Woods Golf Club
X-ORIGINAL-URL:https://beltonwoodsgolfclub.co.uk
X-WR-CALDESC:Events for Belton Woods Golf Club
REFRESH-INTERVAL;VALUE=DURATION:PT1H
X-Robots-Tag:noindex
X-PUBLISHED-TTL:PT1H
BEGIN:VTIMEZONE
TZID:Europe/London
BEGIN:DAYLIGHT
TZOFFSETFROM:+0000
TZOFFSETTO:+0100
TZNAME:BST
DTSTART:20240331T010000
END:DAYLIGHT
BEGIN:STANDARD
TZOFFSETFROM:+0100
TZOFFSETTO:+0000
TZNAME:GMT
DTSTART:20241027T010000
END:STANDARD
END:VTIMEZONE
BEGIN:VEVENT
DTSTART;TZID=Europe/London:20240806T000000
DTEND;TZID=Europe/London:20240806T000000
DTSTAMP:20260422T190530
CREATED:20240113T072841Z
LAST-MODIFIED:20240113T072841Z
UID:8118-1722902400-1722902400@beltonwoodsgolfclub.co.uk
SUMMARY:Lakes Course closed - rested
DESCRIPTION:
URL:https://beltonwoodsgolfclub.co.uk/event/lakes-course-closed-rested-11-2/
CATEGORIES:Lakes Course closed - rested
END:VEVENT
BEGIN:VEVENT
DTSTART;TZID=Europe/London:20240806T000000
DTEND;TZID=Europe/London:20240806T000000
DTSTAMP:20260422T190530
CREATED:20240113T072841Z
LAST-MODIFIED:20240113T072841Z
UID:6689-1722902400-1722902400@beltonwoodsgolfclub.co.uk
SUMMARY:Lakes Course closed - rested
DESCRIPTION:
URL:https://beltonwoodsgolfclub.co.uk/event/lakes-course-closed-rested-11/
CATEGORIES:Lakes Course closed - rested
END:VEVENT
BEGIN:VEVENT
DTSTART;TZID=Europe/London:20240807T000000
DTEND;TZID=Europe/London:20240807T000000
DTSTAMP:20260422T190530
CREATED:20240113T072842Z
LAST-MODIFIED:20240113T072842Z
UID:8119-1722988800-1722988800@beltonwoodsgolfclub.co.uk
SUMMARY:Lakes Course closed - rested
DESCRIPTION:
URL:https://beltonwoodsgolfclub.co.uk/event/lakes-course-closed-rested-12-2/
CATEGORIES:Lakes Course closed - rested
END:VEVENT
BEGIN:VEVENT
DTSTART;TZID=Europe/London:20240807T000000
DTEND;TZID=Europe/London:20240807T000000
DTSTAMP:20260422T190530
CREATED:20240113T072842Z
LAST-MODIFIED:20240113T072842Z
UID:6690-1722988800-1722988800@beltonwoodsgolfclub.co.uk
SUMMARY:Lakes Course closed - rested
DESCRIPTION:
URL:https://beltonwoodsgolfclub.co.uk/event/lakes-course-closed-rested-12/
CATEGORIES:Lakes Course closed - rested
END:VEVENT
BEGIN:VEVENT
DTSTART;TZID=Europe/London:20240808T000000
DTEND;TZID=Europe/London:20240808T000000
DTSTAMP:20260422T190530
CREATED:20240113T072842Z
LAST-MODIFIED:20240113T072842Z
UID:8120-1723075200-1723075200@beltonwoodsgolfclub.co.uk
SUMMARY:Lakes Course closed - rested
DESCRIPTION:
URL:https://beltonwoodsgolfclub.co.uk/event/lakes-course-closed-rested-13-2/
CATEGORIES:Lakes Course closed - rested
END:VEVENT
BEGIN:VEVENT
DTSTART;TZID=Europe/London:20240808T000000
DTEND;TZID=Europe/London:20240808T000000
DTSTAMP:20260422T190530
CREATED:20240113T072842Z
LAST-MODIFIED:20240113T072842Z
UID:6691-1723075200-1723075200@beltonwoodsgolfclub.co.uk
SUMMARY:Lakes Course closed - rested
DESCRIPTION:
URL:https://beltonwoodsgolfclub.co.uk/event/lakes-course-closed-rested-13/
CATEGORIES:Lakes Course closed - rested
END:VEVENT
END:VCALENDAR