BEGIN:VCALENDAR
VERSION:2.0
PRODID:-//Belton Woods Golf Club - ECPv6.15.1.1//NONSGML v1.0//EN
CALSCALE:GREGORIAN
METHOD:PUBLISH
X-ORIGINAL-URL:https://beltonwoodsgolfclub.co.uk
X-WR-CALDESC:Events for Belton Woods Golf Club
REFRESH-INTERVAL;VALUE=DURATION:PT1H
X-Robots-Tag:noindex
X-PUBLISHED-TTL:PT1H
BEGIN:VTIMEZONE
TZID:Europe/London
BEGIN:DAYLIGHT
TZOFFSETFROM:+0000
TZOFFSETTO:+0100
TZNAME:BST
DTSTART:20230326T010000
END:DAYLIGHT
BEGIN:STANDARD
TZOFFSETFROM:+0100
TZOFFSETTO:+0000
TZNAME:GMT
DTSTART:20231029T010000
END:STANDARD
END:VTIMEZONE
BEGIN:VEVENT
DTSTART;TZID=Europe/London:20230614T102000
DTEND;TZID=Europe/London:20230614T102000
DTSTAMP:20260423T061234
CREATED:20230102T223957Z
LAST-MODIFIED:20230102T223957Z
UID:5244-1686738000-1686738000@beltonwoodsgolfclub.co.uk
SUMMARY:Ladies Weekday Cup
DESCRIPTION:8 Tee Times
URL:https://beltonwoodsgolfclub.co.uk/event/ladies-weekday-cup/
CATEGORIES:Ladies Competition
END:VEVENT
BEGIN:VEVENT
DTSTART;TZID=Europe/London:20230614T102000
DTEND;TZID=Europe/London:20230614T102000
DTSTAMP:20260423T061234
CREATED:20230102T223957Z
LAST-MODIFIED:20230102T223957Z
UID:7966-1686738000-1686738000@beltonwoodsgolfclub.co.uk
SUMMARY:Ladies Weekday Cup
DESCRIPTION:8 Tee Times
URL:https://beltonwoodsgolfclub.co.uk/event/ladies-weekday-cup-2/
CATEGORIES:Ladies Competition
END:VEVENT
BEGIN:VEVENT
DTSTART;TZID=Europe/London:20230611T000000
DTEND;TZID=Europe/London:20230611T000000
DTSTAMP:20260423T061234
CREATED:20230102T223957Z
LAST-MODIFIED:20230102T223957Z
UID:7965-1686441600-1686441600@beltonwoodsgolfclub.co.uk
SUMMARY:Past Captain's Day?
DESCRIPTION:
URL:https://beltonwoodsgolfclub.co.uk/event/past-captains-day-2/
CATEGORIES:Ladies Competition
END:VEVENT
BEGIN:VEVENT
DTSTART;TZID=Europe/London:20230611T000000
DTEND;TZID=Europe/London:20230611T000000
DTSTAMP:20260423T061234
CREATED:20230102T223957Z
LAST-MODIFIED:20230102T223957Z
UID:5243-1686441600-1686441600@beltonwoodsgolfclub.co.uk
SUMMARY:Past Captain's Day?
DESCRIPTION:
URL:https://beltonwoodsgolfclub.co.uk/event/past-captains-day/
CATEGORIES:Ladies Competition
END:VEVENT
BEGIN:VEVENT
DTSTART;TZID=Europe/London:20230610T094000
DTEND;TZID=Europe/London:20230610T094000
DTSTAMP:20260423T061234
CREATED:20230102T223957Z
LAST-MODIFIED:20230102T223957Z
UID:7964-1686390000-1686390000@beltonwoodsgolfclub.co.uk
SUMMARY:Monthly Stableford
DESCRIPTION:8 Tee Times
URL:https://beltonwoodsgolfclub.co.uk/event/monthly-stableford-31-2/
CATEGORIES:Ladies Competition
END:VEVENT
BEGIN:VEVENT
DTSTART;TZID=Europe/London:20230610T094000
DTEND;TZID=Europe/London:20230610T094000
DTSTAMP:20260423T061234
CREATED:20230102T223957Z
LAST-MODIFIED:20230102T223957Z
UID:5242-1686390000-1686390000@beltonwoodsgolfclub.co.uk
SUMMARY:Monthly Stableford
DESCRIPTION:8 Tee Times
URL:https://beltonwoodsgolfclub.co.uk/event/monthly-stableford-31/
CATEGORIES:Ladies Competition
END:VEVENT
BEGIN:VEVENT
DTSTART;TZID=Europe/London:20230607T101200
DTEND;TZID=Europe/London:20230607T101200
DTSTAMP:20260423T061234
CREATED:20230102T223943Z
LAST-MODIFIED:20230102T223943Z
UID:7961-1686132720-1686132720@beltonwoodsgolfclub.co.uk
SUMMARY:Monthly Stableford
DESCRIPTION:8 Tee Times
URL:https://beltonwoodsgolfclub.co.uk/event/monthly-stableford-30-2/
CATEGORIES:Ladies Competition
END:VEVENT
BEGIN:VEVENT
DTSTART;TZID=Europe/London:20230607T101200
DTEND;TZID=Europe/London:20230607T101200
DTSTAMP:20260423T061234
CREATED:20230102T223943Z
LAST-MODIFIED:20230102T223943Z
UID:5234-1686132720-1686132720@beltonwoodsgolfclub.co.uk
SUMMARY:Monthly Stableford
DESCRIPTION:8 Tee Times
URL:https://beltonwoodsgolfclub.co.uk/event/monthly-stableford-30/
CATEGORIES:Ladies Competition
END:VEVENT
BEGIN:VEVENT
DTSTART;TZID=Europe/London:20230527T100400
DTEND;TZID=Europe/London:20230527T100400
DTSTAMP:20260423T061234
CREATED:20230102T223927Z
LAST-MODIFIED:20230102T223927Z
UID:5229-1685181840-1685181840@beltonwoodsgolfclub.co.uk
SUMMARY:Monthly Stableford EG
DESCRIPTION:7 Tee Times
URL:https://beltonwoodsgolfclub.co.uk/event/monthly-stableford-eg-4/
CATEGORIES:Ladies Competition
END:VEVENT
BEGIN:VEVENT
DTSTART;TZID=Europe/London:20230527T100400
DTEND;TZID=Europe/London:20230527T100400
DTSTAMP:20260423T061234
CREATED:20230102T223927Z
LAST-MODIFIED:20230102T223927Z
UID:7956-1685181840-1685181840@beltonwoodsgolfclub.co.uk
SUMMARY:Monthly Stableford EG
DESCRIPTION:7 Tee Times
URL:https://beltonwoodsgolfclub.co.uk/event/monthly-stableford-eg-4-2/
CATEGORIES:Ladies Competition
END:VEVENT
BEGIN:VEVENT
DTSTART;TZID=Europe/London:20230526T130000
DTEND;TZID=Europe/London:20230526T130000
DTSTAMP:20260423T061234
CREATED:20230102T223927Z
LAST-MODIFIED:20230102T223927Z
UID:5228-1685106000-1685106000@beltonwoodsgolfclub.co.uk
SUMMARY:Ladies 4-way Spalding
DESCRIPTION:
URL:https://beltonwoodsgolfclub.co.uk/event/ladies-4-way-spalding/
CATEGORIES:Ladies Competition
END:VEVENT
BEGIN:VEVENT
DTSTART;TZID=Europe/London:20230526T130000
DTEND;TZID=Europe/London:20230526T130000
DTSTAMP:20260423T061234
CREATED:20230102T223927Z
LAST-MODIFIED:20230102T223927Z
UID:7955-1685106000-1685106000@beltonwoodsgolfclub.co.uk
SUMMARY:Ladies 4-way Spalding
DESCRIPTION:
URL:https://beltonwoodsgolfclub.co.uk/event/ladies-4-way-spalding-2/
CATEGORIES:Ladies Competition
END:VEVENT
BEGIN:VEVENT
DTSTART;TZID=Europe/London:20230524T093200
DTEND;TZID=Europe/London:20230524T093200
DTSTAMP:20260423T061234
CREATED:20230102T223927Z
LAST-MODIFIED:20230102T223927Z
UID:5227-1684920720-1684920720@beltonwoodsgolfclub.co.uk
SUMMARY:Monthly Stableford EG
DESCRIPTION:8 Tee Times
URL:https://beltonwoodsgolfclub.co.uk/event/monthly-stableford-eg-3/
CATEGORIES:Ladies Competition
END:VEVENT
BEGIN:VEVENT
DTSTART;TZID=Europe/London:20230524T093200
DTEND;TZID=Europe/London:20230524T093200
DTSTAMP:20260423T061234
CREATED:20230102T223927Z
LAST-MODIFIED:20230102T223927Z
UID:7954-1684920720-1684920720@beltonwoodsgolfclub.co.uk
SUMMARY:Monthly Stableford EG
DESCRIPTION:8 Tee Times
URL:https://beltonwoodsgolfclub.co.uk/event/monthly-stableford-eg-3-2/
CATEGORIES:Ladies Competition
END:VEVENT
BEGIN:VEVENT
DTSTART;TZID=Europe/London:20230520T084400
DTEND;TZID=Europe/London:20230520T084400
DTSTAMP:20260423T061234
CREATED:20230102T223912Z
LAST-MODIFIED:20230102T223912Z
UID:7951-1684572240-1684572240@beltonwoodsgolfclub.co.uk
SUMMARY:Spring Meeting
DESCRIPTION:10 Tee Times
URL:https://beltonwoodsgolfclub.co.uk/event/spring-meeting-2/
CATEGORIES:Ladies Competition
END:VEVENT
BEGIN:VEVENT
DTSTART;TZID=Europe/London:20230520T084400
DTEND;TZID=Europe/London:20230520T084400
DTSTAMP:20260423T061234
CREATED:20230102T223912Z
LAST-MODIFIED:20230102T223912Z
UID:5224-1684572240-1684572240@beltonwoodsgolfclub.co.uk
SUMMARY:Spring Meeting
DESCRIPTION:10 Tee Times
URL:https://beltonwoodsgolfclub.co.uk/event/spring-meeting/
CATEGORIES:Ladies Competition
END:VEVENT
BEGIN:VEVENT
DTSTART;TZID=Europe/London:20230517T093200
DTEND;TZID=Europe/London:20230517T093200
DTSTAMP:20260423T061234
CREATED:20230102T223912Z
LAST-MODIFIED:20230102T223912Z
UID:7949-1684315920-1684315920@beltonwoodsgolfclub.co.uk
SUMMARY:Directors Trophy / Social
DESCRIPTION:8 Tee Times
URL:https://beltonwoodsgolfclub.co.uk/event/directors-trophy-social-2-2/
CATEGORIES:Ladies Competition
END:VEVENT
BEGIN:VEVENT
DTSTART;TZID=Europe/London:20230517T093200
DTEND;TZID=Europe/London:20230517T093200
DTSTAMP:20260423T061234
CREATED:20230102T223912Z
LAST-MODIFIED:20230102T223912Z
UID:5222-1684315920-1684315920@beltonwoodsgolfclub.co.uk
SUMMARY:Directors Trophy / Social
DESCRIPTION:8 Tee Times
URL:https://beltonwoodsgolfclub.co.uk/event/directors-trophy-social-2/
CATEGORIES:Ladies Competition
END:VEVENT
BEGIN:VEVENT
DTSTART;TZID=Europe/London:20230513T090000
DTEND;TZID=Europe/London:20230513T090000
DTSTAMP:20260423T061234
CREATED:20230102T223912Z
LAST-MODIFIED:20230102T223912Z
UID:5220-1683968400-1683968400@beltonwoodsgolfclub.co.uk
SUMMARY:Par Comp 2
DESCRIPTION:8 Tee Times
URL:https://beltonwoodsgolfclub.co.uk/event/par-comp-2-2/
CATEGORIES:Ladies Competition
END:VEVENT
BEGIN:VEVENT
DTSTART;TZID=Europe/London:20230513T090000
DTEND;TZID=Europe/London:20230513T090000
DTSTAMP:20260423T061234
CREATED:20230102T223912Z
LAST-MODIFIED:20230102T223912Z
UID:7947-1683968400-1683968400@beltonwoodsgolfclub.co.uk
SUMMARY:Par Comp 2
DESCRIPTION:8 Tee Times
URL:https://beltonwoodsgolfclub.co.uk/event/par-comp-2-2-2/
CATEGORIES:Ladies Competition
END:VEVENT
BEGIN:VEVENT
DTSTART;TZID=Europe/London:20230510T093200
DTEND;TZID=Europe/London:20230510T093200
DTSTAMP:20260423T061234
CREATED:20230102T223904Z
LAST-MODIFIED:20230102T223904Z
UID:5219-1683711120-1683711120@beltonwoodsgolfclub.co.uk
SUMMARY:Par Comp 1
DESCRIPTION:8 Tee Times
URL:https://beltonwoodsgolfclub.co.uk/event/par-comp-1-2/
CATEGORIES:Ladies Competition
END:VEVENT
BEGIN:VEVENT
DTSTART;TZID=Europe/London:20230510T093200
DTEND;TZID=Europe/London:20230510T093200
DTSTAMP:20260423T061234
CREATED:20230102T223904Z
LAST-MODIFIED:20230102T223904Z
UID:7946-1683711120-1683711120@beltonwoodsgolfclub.co.uk
SUMMARY:Par Comp 1
DESCRIPTION:8 Tee Times
URL:https://beltonwoodsgolfclub.co.uk/event/par-comp-1-2-2/
CATEGORIES:Ladies Competition
END:VEVENT
BEGIN:VEVENT
DTSTART;TZID=Europe/London:20230506T093200
DTEND;TZID=Europe/London:20230506T093200
DTSTAMP:20260423T061234
CREATED:20230102T223903Z
LAST-MODIFIED:20230102T223903Z
UID:5218-1683365520-1683365520@beltonwoodsgolfclub.co.uk
SUMMARY:Monthly Medal
DESCRIPTION:8 Tee Times
URL:https://beltonwoodsgolfclub.co.uk/event/monthly-medal-25/
CATEGORIES:Ladies Competition
END:VEVENT
BEGIN:VEVENT
DTSTART;TZID=Europe/London:20230506T093200
DTEND;TZID=Europe/London:20230506T093200
DTSTAMP:20260423T061234
CREATED:20230102T223903Z
LAST-MODIFIED:20230102T223903Z
UID:7945-1683365520-1683365520@beltonwoodsgolfclub.co.uk
SUMMARY:Monthly Medal
DESCRIPTION:8 Tee Times
URL:https://beltonwoodsgolfclub.co.uk/event/monthly-medal-25-2/
CATEGORIES:Ladies Competition
END:VEVENT
BEGIN:VEVENT
DTSTART;TZID=Europe/London:20230503T093200
DTEND;TZID=Europe/London:20230503T093200
DTSTAMP:20260423T061234
CREATED:20230102T223903Z
LAST-MODIFIED:20230102T223903Z
UID:7943-1683106320-1683106320@beltonwoodsgolfclub.co.uk
SUMMARY:Monthly Medal
DESCRIPTION:8 Tee Times
URL:https://beltonwoodsgolfclub.co.uk/event/monthly-medal-24-2/
CATEGORIES:Ladies Competition
END:VEVENT
BEGIN:VEVENT
DTSTART;TZID=Europe/London:20230503T093200
DTEND;TZID=Europe/London:20230503T093200
DTSTAMP:20260423T061234
CREATED:20230102T223903Z
LAST-MODIFIED:20230102T223903Z
UID:5216-1683106320-1683106320@beltonwoodsgolfclub.co.uk
SUMMARY:Monthly Medal
DESCRIPTION:8 Tee Times
URL:https://beltonwoodsgolfclub.co.uk/event/monthly-medal-24/
CATEGORIES:Ladies Competition
END:VEVENT
BEGIN:VEVENT
DTSTART;TZID=Europe/London:20230429T093200
DTEND;TZID=Europe/London:20230429T093200
DTSTAMP:20260423T061234
CREATED:20230102T223811Z
LAST-MODIFIED:20230102T223811Z
UID:7940-1682760720-1682760720@beltonwoodsgolfclub.co.uk
SUMMARY:Coronation Foursomes
DESCRIPTION:8 Tee Times
URL:https://beltonwoodsgolfclub.co.uk/event/coronation-foursomes-2-2/
CATEGORIES:Ladies Competition
END:VEVENT
BEGIN:VEVENT
DTSTART;TZID=Europe/London:20230429T093200
DTEND;TZID=Europe/London:20230429T093200
DTSTAMP:20260423T061234
CREATED:20230102T223811Z
LAST-MODIFIED:20230102T223811Z
UID:5213-1682760720-1682760720@beltonwoodsgolfclub.co.uk
SUMMARY:Coronation Foursomes
DESCRIPTION:8 Tee Times
URL:https://beltonwoodsgolfclub.co.uk/event/coronation-foursomes-2/
CATEGORIES:Ladies Competition
END:VEVENT
BEGIN:VEVENT
DTSTART;TZID=Europe/London:20230426T093200
DTEND;TZID=Europe/London:20230426T093200
DTSTAMP:20260423T061234
CREATED:20230102T223811Z
LAST-MODIFIED:20230102T223811Z
UID:7939-1682501520-1682501520@beltonwoodsgolfclub.co.uk
SUMMARY:Coronation Foursomes
DESCRIPTION:8 Tee Times
URL:https://beltonwoodsgolfclub.co.uk/event/coronation-foursomes-3/
CATEGORIES:Ladies Competition
END:VEVENT
BEGIN:VEVENT
DTSTART;TZID=Europe/London:20230426T093200
DTEND;TZID=Europe/London:20230426T093200
DTSTAMP:20260423T061234
CREATED:20230102T223811Z
LAST-MODIFIED:20230102T223811Z
UID:5212-1682501520-1682501520@beltonwoodsgolfclub.co.uk
SUMMARY:Coronation Foursomes
DESCRIPTION:8 Tee Times
URL:https://beltonwoodsgolfclub.co.uk/event/coronation-foursomes/
CATEGORIES:Ladies Competition
END:VEVENT
END:VCALENDAR