BEGIN:VCALENDAR
VERSION:2.0
PRODID:-//Belton Woods Golf Club - ECPv6.15.1.1//NONSGML v1.0//EN
CALSCALE:GREGORIAN
METHOD:PUBLISH
X-WR-CALNAME:Belton Woods Golf Club
X-ORIGINAL-URL:https://beltonwoodsgolfclub.co.uk
X-WR-CALDESC:Events for Belton Woods Golf Club
REFRESH-INTERVAL;VALUE=DURATION:PT1H
X-Robots-Tag:noindex
X-PUBLISHED-TTL:PT1H
BEGIN:VTIMEZONE
TZID:Europe/London
BEGIN:DAYLIGHT
TZOFFSETFROM:+0000
TZOFFSETTO:+0100
TZNAME:BST
DTSTART:20230326T010000
END:DAYLIGHT
BEGIN:STANDARD
TZOFFSETFROM:+0100
TZOFFSETTO:+0000
TZNAME:GMT
DTSTART:20231029T010000
END:STANDARD
END:VTIMEZONE
BEGIN:VEVENT
DTSTART;TZID=Europe/London:20230916T084400
DTEND;TZID=Europe/London:20230916T084400
DTSTAMP:20260422T020753
CREATED:20230102T224155Z
LAST-MODIFIED:20230102T224155Z
UID:5282-1694853840-1694853840@beltonwoodsgolfclub.co.uk
SUMMARY:Autumn Meeting
DESCRIPTION:10 Tee Times
URL:https://beltonwoodsgolfclub.co.uk/event/autumn-meeting/
CATEGORIES:Ladies Competition
END:VEVENT
BEGIN:VEVENT
DTSTART;TZID=Europe/London:20230916T084400
DTEND;TZID=Europe/London:20230916T084400
DTSTAMP:20260422T020753
CREATED:20230102T224155Z
LAST-MODIFIED:20230102T224155Z
UID:8004-1694853840-1694853840@beltonwoodsgolfclub.co.uk
SUMMARY:Autumn Meeting
DESCRIPTION:10 Tee Times
URL:https://beltonwoodsgolfclub.co.uk/event/autumn-meeting-2/
CATEGORIES:Ladies Competition
END:VEVENT
BEGIN:VEVENT
DTSTART;TZID=Europe/London:20230909T093200
DTEND;TZID=Europe/London:20230909T093200
DTSTAMP:20260422T020753
CREATED:20230102T224155Z
LAST-MODIFIED:20230102T224155Z
UID:5280-1694251920-1694251920@beltonwoodsgolfclub.co.uk
SUMMARY:Monthly Stableford
DESCRIPTION:8 Tee Times
URL:https://beltonwoodsgolfclub.co.uk/event/monthly-stableford-37/
CATEGORIES:Ladies Competition
END:VEVENT
BEGIN:VEVENT
DTSTART;TZID=Europe/London:20230909T093200
DTEND;TZID=Europe/London:20230909T093200
DTSTAMP:20260422T020753
CREATED:20230102T224155Z
LAST-MODIFIED:20230102T224155Z
UID:8002-1694251920-1694251920@beltonwoodsgolfclub.co.uk
SUMMARY:Monthly Stableford
DESCRIPTION:8 Tee Times
URL:https://beltonwoodsgolfclub.co.uk/event/monthly-stableford-37-2/
CATEGORIES:Ladies Competition
END:VEVENT
BEGIN:VEVENT
DTSTART;TZID=Europe/London:20230906T094800
DTEND;TZID=Europe/London:20230906T094800
DTSTAMP:20260422T020753
CREATED:20230102T224140Z
LAST-MODIFIED:20230102T224140Z
UID:5278-1693993680-1693993680@beltonwoodsgolfclub.co.uk
SUMMARY:Monthly Stableford
DESCRIPTION:8 Tee Times
URL:https://beltonwoodsgolfclub.co.uk/event/monthly-stableford-36/
CATEGORIES:Ladies Competition
END:VEVENT
BEGIN:VEVENT
DTSTART;TZID=Europe/London:20230906T094800
DTEND;TZID=Europe/London:20230906T094800
DTSTAMP:20260422T020753
CREATED:20230102T224140Z
LAST-MODIFIED:20230102T224140Z
UID:8000-1693993680-1693993680@beltonwoodsgolfclub.co.uk
SUMMARY:Monthly Stableford
DESCRIPTION:8 Tee Times
URL:https://beltonwoodsgolfclub.co.uk/event/monthly-stableford-36-2/
CATEGORIES:Ladies Competition
END:VEVENT
BEGIN:VEVENT
DTSTART;TZID=Europe/London:20230902T093200
DTEND;TZID=Europe/London:20230902T093200
DTSTAMP:20260422T020753
CREATED:20230102T224140Z
LAST-MODIFIED:20230102T224140Z
UID:7999-1693647120-1693647120@beltonwoodsgolfclub.co.uk
SUMMARY:Myles Foster\,Tony Roberts Trophies
DESCRIPTION:8 Tee Times
URL:https://beltonwoodsgolfclub.co.uk/event/myles-fostertony-roberts-trophies-2/
CATEGORIES:Ladies Competition
END:VEVENT
BEGIN:VEVENT
DTSTART;TZID=Europe/London:20230902T093200
DTEND;TZID=Europe/London:20230902T093200
DTSTAMP:20260422T020753
CREATED:20230102T224140Z
LAST-MODIFIED:20230102T224140Z
UID:5277-1693647120-1693647120@beltonwoodsgolfclub.co.uk
SUMMARY:Myles Foster\,Tony Roberts Trophies
DESCRIPTION:8 Tee Times
URL:https://beltonwoodsgolfclub.co.uk/event/myles-fostertony-roberts-trophies/
CATEGORIES:Ladies Competition
END:VEVENT
BEGIN:VEVENT
DTSTART;TZID=Europe/London:20230826T093200
DTEND;TZID=Europe/London:20230826T093200
DTSTAMP:20260422T020753
CREATED:20230102T224125Z
LAST-MODIFIED:20230102T224125Z
UID:7995-1693042320-1693042320@beltonwoodsgolfclub.co.uk
SUMMARY:Par Comp Final / social
DESCRIPTION:8 Tee Times
URL:https://beltonwoodsgolfclub.co.uk/event/par-comp-final-social-2/
CATEGORIES:Ladies Competition
END:VEVENT
BEGIN:VEVENT
DTSTART;TZID=Europe/London:20230826T093200
DTEND;TZID=Europe/London:20230826T093200
DTSTAMP:20260422T020753
CREATED:20230102T224125Z
LAST-MODIFIED:20230102T224125Z
UID:5273-1693042320-1693042320@beltonwoodsgolfclub.co.uk
SUMMARY:Par Comp Final / social
DESCRIPTION:8 Tee Times
URL:https://beltonwoodsgolfclub.co.uk/event/par-comp-final-social/
CATEGORIES:Ladies Competition
END:VEVENT
BEGIN:VEVENT
DTSTART;TZID=Europe/London:20230819T090000
DTEND;TZID=Europe/London:20230819T090000
DTSTAMP:20260422T020753
CREATED:20230102T224125Z
LAST-MODIFIED:20230102T224125Z
UID:5271-1692435600-1692435600@beltonwoodsgolfclub.co.uk
SUMMARY:Monthly Stableford
DESCRIPTION:8 Tee Times
URL:https://beltonwoodsgolfclub.co.uk/event/monthly-stableford-35/
CATEGORIES:Ladies Competition
END:VEVENT
BEGIN:VEVENT
DTSTART;TZID=Europe/London:20230819T090000
DTEND;TZID=Europe/London:20230819T090000
DTSTAMP:20260422T020753
CREATED:20230102T224125Z
LAST-MODIFIED:20230102T224125Z
UID:7993-1692435600-1692435600@beltonwoodsgolfclub.co.uk
SUMMARY:Monthly Stableford
DESCRIPTION:8 Tee Times
URL:https://beltonwoodsgolfclub.co.uk/event/monthly-stableford-35-2/
CATEGORIES:Ladies Competition
END:VEVENT
BEGIN:VEVENT
DTSTART;TZID=Europe/London:20230816T094800
DTEND;TZID=Europe/London:20230816T094800
DTSTAMP:20260422T020753
CREATED:20230102T224125Z
LAST-MODIFIED:20230102T224125Z
UID:5270-1692179280-1692179280@beltonwoodsgolfclub.co.uk
SUMMARY:Monthly Stableford
DESCRIPTION:8 Tee Times
URL:https://beltonwoodsgolfclub.co.uk/event/monthly-stableford-34/
CATEGORIES:Ladies Competition
END:VEVENT
BEGIN:VEVENT
DTSTART;TZID=Europe/London:20230816T094800
DTEND;TZID=Europe/London:20230816T094800
DTSTAMP:20260422T020753
CREATED:20230102T224125Z
LAST-MODIFIED:20230102T224125Z
UID:7992-1692179280-1692179280@beltonwoodsgolfclub.co.uk
SUMMARY:Monthly Stableford
DESCRIPTION:8 Tee Times
URL:https://beltonwoodsgolfclub.co.uk/event/monthly-stableford-34-2/
CATEGORIES:Ladies Competition
END:VEVENT
BEGIN:VEVENT
DTSTART;TZID=Europe/London:20230812T093200
DTEND;TZID=Europe/London:20230812T093200
DTSTAMP:20260422T020753
CREATED:20230102T224110Z
LAST-MODIFIED:20230102T224110Z
UID:5269-1691832720-1691832720@beltonwoodsgolfclub.co.uk
SUMMARY:Par Comp 6
DESCRIPTION:8 Tee Times
URL:https://beltonwoodsgolfclub.co.uk/event/par-comp-6-2/
CATEGORIES:Ladies Competition
END:VEVENT
BEGIN:VEVENT
DTSTART;TZID=Europe/London:20230812T093200
DTEND;TZID=Europe/London:20230812T093200
DTSTAMP:20260422T020753
CREATED:20230102T224110Z
LAST-MODIFIED:20230102T224110Z
UID:7991-1691832720-1691832720@beltonwoodsgolfclub.co.uk
SUMMARY:Par Comp 6
DESCRIPTION:8 Tee Times
URL:https://beltonwoodsgolfclub.co.uk/event/par-comp-6-2-2/
CATEGORIES:Ladies Competition
END:VEVENT
BEGIN:VEVENT
DTSTART;TZID=Europe/London:20230809T093200
DTEND;TZID=Europe/London:20230809T093200
DTSTAMP:20260422T020753
CREATED:20230102T224110Z
LAST-MODIFIED:20230102T224110Z
UID:7989-1691573520-1691573520@beltonwoodsgolfclub.co.uk
SUMMARY:Par Comp 5
DESCRIPTION:8 Tee Times
URL:https://beltonwoodsgolfclub.co.uk/event/par-comp-5-2-2/
CATEGORIES:Ladies Competition
END:VEVENT
BEGIN:VEVENT
DTSTART;TZID=Europe/London:20230809T093200
DTEND;TZID=Europe/London:20230809T093200
DTSTAMP:20260422T020753
CREATED:20230102T224110Z
LAST-MODIFIED:20230102T224110Z
UID:5267-1691573520-1691573520@beltonwoodsgolfclub.co.uk
SUMMARY:Par Comp 5
DESCRIPTION:8 Tee Times
URL:https://beltonwoodsgolfclub.co.uk/event/par-comp-5-2/
CATEGORIES:Ladies Competition
END:VEVENT
BEGIN:VEVENT
DTSTART;TZID=Europe/London:20230805T093200
DTEND;TZID=Europe/London:20230805T093200
DTSTAMP:20260422T020753
CREATED:20230102T224110Z
LAST-MODIFIED:20230102T224110Z
UID:7987-1691227920-1691227920@beltonwoodsgolfclub.co.uk
SUMMARY:Monthly Medal
DESCRIPTION:8 Tee Times
URL:https://beltonwoodsgolfclub.co.uk/event/monthly-medal-30-2/
CATEGORIES:Ladies Competition
END:VEVENT
BEGIN:VEVENT
DTSTART;TZID=Europe/London:20230805T093200
DTEND;TZID=Europe/London:20230805T093200
DTSTAMP:20260422T020753
CREATED:20230102T224110Z
LAST-MODIFIED:20230102T224110Z
UID:5265-1691227920-1691227920@beltonwoodsgolfclub.co.uk
SUMMARY:Monthly Medal
DESCRIPTION:8 Tee Times
URL:https://beltonwoodsgolfclub.co.uk/event/monthly-medal-30/
CATEGORIES:Ladies Competition
END:VEVENT
BEGIN:VEVENT
DTSTART;TZID=Europe/London:20230802T090000
DTEND;TZID=Europe/London:20230802T090000
DTSTAMP:20260422T020753
CREATED:20230102T224055Z
LAST-MODIFIED:20230102T224055Z
UID:7986-1690966800-1690966800@beltonwoodsgolfclub.co.uk
SUMMARY:Monthly Medal
DESCRIPTION:8 Tee Times
URL:https://beltonwoodsgolfclub.co.uk/event/monthly-medal-29-2/
CATEGORIES:Ladies Competition
END:VEVENT
BEGIN:VEVENT
DTSTART;TZID=Europe/London:20230802T090000
DTEND;TZID=Europe/London:20230802T090000
DTSTAMP:20260422T020753
CREATED:20230102T224055Z
LAST-MODIFIED:20230102T224055Z
UID:5264-1690966800-1690966800@beltonwoodsgolfclub.co.uk
SUMMARY:Monthly Medal
DESCRIPTION:8 Tee Times
URL:https://beltonwoodsgolfclub.co.uk/event/monthly-medal-29/
CATEGORIES:Ladies Competition
END:VEVENT
BEGIN:VEVENT
DTSTART;TZID=Europe/London:20230730T092400
DTEND;TZID=Europe/London:20230730T092400
DTSTAMP:20260422T020753
CREATED:20230102T224055Z
LAST-MODIFIED:20230102T224055Z
UID:5263-1690709040-1690709040@beltonwoodsgolfclub.co.uk
SUMMARY:Linda Cochrane Club Championship
DESCRIPTION:8 Tee Times
URL:https://beltonwoodsgolfclub.co.uk/event/linda-cochrane-club-championship-2/
CATEGORIES:Ladies Competition
END:VEVENT
BEGIN:VEVENT
DTSTART;TZID=Europe/London:20230730T092400
DTEND;TZID=Europe/London:20230730T092400
DTSTAMP:20260422T020753
CREATED:20230102T224055Z
LAST-MODIFIED:20230102T224055Z
UID:7985-1690709040-1690709040@beltonwoodsgolfclub.co.uk
SUMMARY:Linda Cochrane Club Championship
DESCRIPTION:8 Tee Times
URL:https://beltonwoodsgolfclub.co.uk/event/linda-cochrane-club-championship-2-2/
CATEGORIES:Ladies Competition
END:VEVENT
BEGIN:VEVENT
DTSTART;TZID=Europe/London:20230729T093200
DTEND;TZID=Europe/London:20230729T093200
DTSTAMP:20260422T020753
CREATED:20230102T224055Z
LAST-MODIFIED:20230102T224055Z
UID:5262-1690623120-1690623120@beltonwoodsgolfclub.co.uk
SUMMARY:Linda Cochrane Club Championship
DESCRIPTION:8 Tee Times
URL:https://beltonwoodsgolfclub.co.uk/event/linda-cochrane-club-championship/
CATEGORIES:Ladies Competition
END:VEVENT
BEGIN:VEVENT
DTSTART;TZID=Europe/London:20230729T093200
DTEND;TZID=Europe/London:20230729T093200
DTSTAMP:20260422T020753
CREATED:20230102T224055Z
LAST-MODIFIED:20230102T224055Z
UID:7984-1690623120-1690623120@beltonwoodsgolfclub.co.uk
SUMMARY:Linda Cochrane Club Championship
DESCRIPTION:8 Tee Times
URL:https://beltonwoodsgolfclub.co.uk/event/linda-cochrane-club-championship-3/
CATEGORIES:Ladies Competition
END:VEVENT
BEGIN:VEVENT
DTSTART;TZID=Europe/London:20230722T092400
DTEND;TZID=Europe/London:20230722T092400
DTSTAMP:20260422T020753
CREATED:20230102T224040Z
LAST-MODIFIED:20230102T224040Z
UID:7981-1690017840-1690017840@beltonwoodsgolfclub.co.uk
SUMMARY:Monthly Medal
DESCRIPTION:8 Tee Times
URL:https://beltonwoodsgolfclub.co.uk/event/monthly-medal-28-2/
CATEGORIES:Ladies Competition
END:VEVENT
BEGIN:VEVENT
DTSTART;TZID=Europe/London:20230722T092400
DTEND;TZID=Europe/London:20230722T092400
DTSTAMP:20260422T020753
CREATED:20230102T224040Z
LAST-MODIFIED:20230102T224040Z
UID:5259-1690017840-1690017840@beltonwoodsgolfclub.co.uk
SUMMARY:Monthly Medal
DESCRIPTION:8 Tee Times
URL:https://beltonwoodsgolfclub.co.uk/event/monthly-medal-28/
CATEGORIES:Ladies Competition
END:VEVENT
BEGIN:VEVENT
DTSTART;TZID=Europe/London:20230719T094800
DTEND;TZID=Europe/London:20230719T094800
DTSTAMP:20260422T020753
CREATED:20230102T224040Z
LAST-MODIFIED:20230102T224040Z
UID:7978-1689760080-1689760080@beltonwoodsgolfclub.co.uk
SUMMARY:Monthly Medal
DESCRIPTION:8 Tee Times
URL:https://beltonwoodsgolfclub.co.uk/event/monthly-medal-27-2/
CATEGORIES:Ladies Competition
END:VEVENT
BEGIN:VEVENT
DTSTART;TZID=Europe/London:20230719T094800
DTEND;TZID=Europe/London:20230719T094800
DTSTAMP:20260422T020753
CREATED:20230102T224040Z
LAST-MODIFIED:20230102T224040Z
UID:5256-1689760080-1689760080@beltonwoodsgolfclub.co.uk
SUMMARY:Monthly Medal
DESCRIPTION:8 Tee Times
URL:https://beltonwoodsgolfclub.co.uk/event/monthly-medal-27/
CATEGORIES:Ladies Competition
END:VEVENT
END:VCALENDAR