BEGIN:VCALENDAR
VERSION:2.0
PRODID:-//Belton Woods Golf Club - ECPv6.15.1.1//NONSGML v1.0//EN
CALSCALE:GREGORIAN
METHOD:PUBLISH
X-ORIGINAL-URL:https://beltonwoodsgolfclub.co.uk
X-WR-CALDESC:Events for Belton Woods Golf Club
REFRESH-INTERVAL;VALUE=DURATION:PT1H
X-Robots-Tag:noindex
X-PUBLISHED-TTL:PT1H
BEGIN:VTIMEZONE
TZID:Europe/London
BEGIN:DAYLIGHT
TZOFFSETFROM:+0000
TZOFFSETTO:+0100
TZNAME:BST
DTSTART:20230326T010000
END:DAYLIGHT
BEGIN:STANDARD
TZOFFSETFROM:+0100
TZOFFSETTO:+0000
TZNAME:GMT
DTSTART:20231029T010000
END:STANDARD
END:VTIMEZONE
BEGIN:VEVENT
DTSTART;TZID=Europe/London:20231028T093200
DTEND;TZID=Europe/London:20231028T093200
DTSTAMP:20260419T224032
CREATED:20230102T224225Z
LAST-MODIFIED:20230102T224225Z
UID:5295-1698485520-1698485520@beltonwoodsgolfclub.co.uk
SUMMARY:Winter Challenge 2
DESCRIPTION:8 Tee Times
URL:https://beltonwoodsgolfclub.co.uk/event/winter-challenge-2-2/
CATEGORIES:Ladies Competition
END:VEVENT
BEGIN:VEVENT
DTSTART;TZID=Europe/London:20231028T093200
DTEND;TZID=Europe/London:20231028T093200
DTSTAMP:20260419T224032
CREATED:20230102T224225Z
LAST-MODIFIED:20230102T224225Z
UID:8017-1698485520-1698485520@beltonwoodsgolfclub.co.uk
SUMMARY:Winter Challenge 2
DESCRIPTION:8 Tee Times
URL:https://beltonwoodsgolfclub.co.uk/event/winter-challenge-2-2-2/
CATEGORIES:Ladies Competition
END:VEVENT
BEGIN:VEVENT
DTSTART;TZID=Europe/London:20231025T093200
DTEND;TZID=Europe/London:20231025T093200
DTSTAMP:20260419T224032
CREATED:20230102T224210Z
LAST-MODIFIED:20230102T224210Z
UID:8016-1698226320-1698226320@beltonwoodsgolfclub.co.uk
SUMMARY:Weekday Winter Challenge 2
DESCRIPTION:8 Tee Times
URL:https://beltonwoodsgolfclub.co.uk/event/weekday-winter-challenge-2-2-2/
CATEGORIES:Ladies Competition
END:VEVENT
BEGIN:VEVENT
DTSTART;TZID=Europe/London:20231025T093200
DTEND;TZID=Europe/London:20231025T093200
DTSTAMP:20260419T224032
CREATED:20230102T224210Z
LAST-MODIFIED:20230102T224210Z
UID:5294-1698226320-1698226320@beltonwoodsgolfclub.co.uk
SUMMARY:Weekday Winter Challenge 2
DESCRIPTION:8 Tee Times
URL:https://beltonwoodsgolfclub.co.uk/event/weekday-winter-challenge-2-2/
CATEGORIES:Ladies Competition
END:VEVENT
BEGIN:VEVENT
DTSTART;TZID=Europe/London:20231021T093200
DTEND;TZID=Europe/London:20231021T093200
DTSTAMP:20260419T224032
CREATED:20230102T224210Z
LAST-MODIFIED:20230102T224210Z
UID:8015-1697880720-1697880720@beltonwoodsgolfclub.co.uk
SUMMARY:Monthly Stableford
DESCRIPTION:8 Tee Times
URL:https://beltonwoodsgolfclub.co.uk/event/monthly-stableford-39-2/
CATEGORIES:Ladies Competition
END:VEVENT
BEGIN:VEVENT
DTSTART;TZID=Europe/London:20231021T093200
DTEND;TZID=Europe/London:20231021T093200
DTSTAMP:20260419T224032
CREATED:20230102T224210Z
LAST-MODIFIED:20230102T224210Z
UID:5293-1697880720-1697880720@beltonwoodsgolfclub.co.uk
SUMMARY:Monthly Stableford
DESCRIPTION:8 Tee Times
URL:https://beltonwoodsgolfclub.co.uk/event/monthly-stableford-39/
CATEGORIES:Ladies Competition
END:VEVENT
BEGIN:VEVENT
DTSTART;TZID=Europe/London:20231018T093200
DTEND;TZID=Europe/London:20231018T093200
DTSTAMP:20260419T224032
CREATED:20230102T224210Z
LAST-MODIFIED:20230102T224210Z
UID:8014-1697621520-1697621520@beltonwoodsgolfclub.co.uk
SUMMARY:Monthly Stableford
DESCRIPTION:8 Tee Times
URL:https://beltonwoodsgolfclub.co.uk/event/monthly-stableford-38-2/
CATEGORIES:Ladies Competition
END:VEVENT
BEGIN:VEVENT
DTSTART;TZID=Europe/London:20231018T093200
DTEND;TZID=Europe/London:20231018T093200
DTSTAMP:20260419T224032
CREATED:20230102T224210Z
LAST-MODIFIED:20230102T224210Z
UID:5292-1697621520-1697621520@beltonwoodsgolfclub.co.uk
SUMMARY:Monthly Stableford
DESCRIPTION:8 Tee Times
URL:https://beltonwoodsgolfclub.co.uk/event/monthly-stableford-38/
CATEGORIES:Ladies Competition
END:VEVENT
BEGIN:VEVENT
DTSTART;TZID=Europe/London:20231014T093200
DTEND;TZID=Europe/London:20231014T093200
DTSTAMP:20260419T224032
CREATED:20230102T224210Z
LAST-MODIFIED:20230102T224210Z
UID:5291-1697275920-1697275920@beltonwoodsgolfclub.co.uk
SUMMARY:Winter Challenge 1
DESCRIPTION:8 Tee Times
URL:https://beltonwoodsgolfclub.co.uk/event/winter-challenge-1-2/
CATEGORIES:Ladies Competition
END:VEVENT
BEGIN:VEVENT
DTSTART;TZID=Europe/London:20231014T093200
DTEND;TZID=Europe/London:20231014T093200
DTSTAMP:20260419T224032
CREATED:20230102T224210Z
LAST-MODIFIED:20230102T224210Z
UID:8013-1697275920-1697275920@beltonwoodsgolfclub.co.uk
SUMMARY:Winter Challenge 1
DESCRIPTION:8 Tee Times
URL:https://beltonwoodsgolfclub.co.uk/event/winter-challenge-1-2-2/
CATEGORIES:Ladies Competition
END:VEVENT
BEGIN:VEVENT
DTSTART;TZID=Europe/London:20231011T093200
DTEND;TZID=Europe/London:20231011T093200
DTSTAMP:20260419T224032
CREATED:20230102T224210Z
LAST-MODIFIED:20230102T224210Z
UID:5290-1697016720-1697016720@beltonwoodsgolfclub.co.uk
SUMMARY:Weekday Winter Challenge 1
DESCRIPTION:8 Tee Times
URL:https://beltonwoodsgolfclub.co.uk/event/weekday-winter-challenge-1-2/
CATEGORIES:Ladies Competition
END:VEVENT
BEGIN:VEVENT
DTSTART;TZID=Europe/London:20231011T093200
DTEND;TZID=Europe/London:20231011T093200
DTSTAMP:20260419T224032
CREATED:20230102T224210Z
LAST-MODIFIED:20230102T224210Z
UID:8012-1697016720-1697016720@beltonwoodsgolfclub.co.uk
SUMMARY:Weekday Winter Challenge 1
DESCRIPTION:8 Tee Times
URL:https://beltonwoodsgolfclub.co.uk/event/weekday-winter-challenge-1-2-2/
CATEGORIES:Ladies Competition
END:VEVENT
BEGIN:VEVENT
DTSTART;TZID=Europe/London:20231007T093200
DTEND;TZID=Europe/London:20231007T093200
DTSTAMP:20260419T224032
CREATED:20230102T224201Z
LAST-MODIFIED:20230102T224201Z
UID:5289-1696671120-1696671120@beltonwoodsgolfclub.co.uk
SUMMARY:Monthly Medal
DESCRIPTION:8 Tee Times
URL:https://beltonwoodsgolfclub.co.uk/event/monthly-medal-34/
CATEGORIES:Ladies Competition
END:VEVENT
BEGIN:VEVENT
DTSTART;TZID=Europe/London:20231007T093200
DTEND;TZID=Europe/London:20231007T093200
DTSTAMP:20260419T224032
CREATED:20230102T224201Z
LAST-MODIFIED:20230102T224201Z
UID:8011-1696671120-1696671120@beltonwoodsgolfclub.co.uk
SUMMARY:Monthly Medal
DESCRIPTION:8 Tee Times
URL:https://beltonwoodsgolfclub.co.uk/event/monthly-medal-34-2/
CATEGORIES:Ladies Competition
END:VEVENT
BEGIN:VEVENT
DTSTART;TZID=Europe/London:20231004T093200
DTEND;TZID=Europe/London:20231004T093200
DTSTAMP:20260419T224032
CREATED:20230102T224201Z
LAST-MODIFIED:20230102T224201Z
UID:8010-1696411920-1696411920@beltonwoodsgolfclub.co.uk
SUMMARY:Monthly Medal
DESCRIPTION:8 Tee Times
URL:https://beltonwoodsgolfclub.co.uk/event/monthly-medal-33-2/
CATEGORIES:Ladies Competition
END:VEVENT
BEGIN:VEVENT
DTSTART;TZID=Europe/London:20231004T093200
DTEND;TZID=Europe/London:20231004T093200
DTSTAMP:20260419T224032
CREATED:20230102T224201Z
LAST-MODIFIED:20230102T224201Z
UID:5288-1696411920-1696411920@beltonwoodsgolfclub.co.uk
SUMMARY:Monthly Medal
DESCRIPTION:8 Tee Times
URL:https://beltonwoodsgolfclub.co.uk/event/monthly-medal-33/
CATEGORIES:Ladies Competition
END:VEVENT
BEGIN:VEVENT
DTSTART;TZID=Europe/London:20230930T093200
DTEND;TZID=Europe/London:20230930T093200
DTSTAMP:20260419T224032
CREATED:20230102T224201Z
LAST-MODIFIED:20230102T224201Z
UID:8009-1696066320-1696066320@beltonwoodsgolfclub.co.uk
SUMMARY:Jan McCullough Trophy
DESCRIPTION:8 Tee Times
URL:https://beltonwoodsgolfclub.co.uk/event/jan-mccullough-trophy-2-2/
CATEGORIES:Ladies Competition
END:VEVENT
BEGIN:VEVENT
DTSTART;TZID=Europe/London:20230930T093200
DTEND;TZID=Europe/London:20230930T093200
DTSTAMP:20260419T224032
CREATED:20230102T224201Z
LAST-MODIFIED:20230102T224201Z
UID:5287-1696066320-1696066320@beltonwoodsgolfclub.co.uk
SUMMARY:Jan McCullough Trophy
DESCRIPTION:8 Tee Times
URL:https://beltonwoodsgolfclub.co.uk/event/jan-mccullough-trophy-2/
CATEGORIES:Ladies Competition
END:VEVENT
BEGIN:VEVENT
DTSTART;TZID=Europe/London:20230923T102000
DTEND;TZID=Europe/London:20230923T102000
DTSTAMP:20260419T224032
CREATED:20230102T224200Z
LAST-MODIFIED:20230102T224200Z
UID:5285-1695464400-1695464400@beltonwoodsgolfclub.co.uk
SUMMARY:Monthly Medal
DESCRIPTION:2 Tee Times
URL:https://beltonwoodsgolfclub.co.uk/event/monthly-medal-32/
CATEGORIES:Ladies Competition
END:VEVENT
BEGIN:VEVENT
DTSTART;TZID=Europe/London:20230923T102000
DTEND;TZID=Europe/London:20230923T102000
DTSTAMP:20260419T224032
CREATED:20230102T224200Z
LAST-MODIFIED:20230102T224200Z
UID:8007-1695464400-1695464400@beltonwoodsgolfclub.co.uk
SUMMARY:Monthly Medal
DESCRIPTION:2 Tee Times
URL:https://beltonwoodsgolfclub.co.uk/event/monthly-medal-32-2/
CATEGORIES:Ladies Competition
END:VEVENT
BEGIN:VEVENT
DTSTART;TZID=Europe/London:20230923T090000
DTEND;TZID=Europe/London:20230923T090000
DTSTAMP:20260419T224032
CREATED:20230102T224155Z
LAST-MODIFIED:20230102T224155Z
UID:5284-1695459600-1695459600@beltonwoodsgolfclub.co.uk
SUMMARY:Tony Rose Bowl Mixed
DESCRIPTION:10 Tee Times
URL:https://beltonwoodsgolfclub.co.uk/event/tony-rose-bowl-mixed/
CATEGORIES:Ladies Competition
END:VEVENT
BEGIN:VEVENT
DTSTART;TZID=Europe/London:20230923T090000
DTEND;TZID=Europe/London:20230923T090000
DTSTAMP:20260419T224032
CREATED:20230102T224155Z
LAST-MODIFIED:20230102T224155Z
UID:8006-1695459600-1695459600@beltonwoodsgolfclub.co.uk
SUMMARY:Tony Rose Bowl Mixed
DESCRIPTION:10 Tee Times
URL:https://beltonwoodsgolfclub.co.uk/event/tony-rose-bowl-mixed-2/
CATEGORIES:Ladies Competition
END:VEVENT
BEGIN:VEVENT
DTSTART;TZID=Europe/London:20230920T093200
DTEND;TZID=Europe/London:20230920T093200
DTSTAMP:20260419T224032
CREATED:20230102T224155Z
LAST-MODIFIED:20230102T224155Z
UID:5283-1695202320-1695202320@beltonwoodsgolfclub.co.uk
SUMMARY:Monthly Medal
DESCRIPTION:8 Tee Times
URL:https://beltonwoodsgolfclub.co.uk/event/monthly-medal-31/
CATEGORIES:Ladies Competition
END:VEVENT
BEGIN:VEVENT
DTSTART;TZID=Europe/London:20230920T093200
DTEND;TZID=Europe/London:20230920T093200
DTSTAMP:20260419T224032
CREATED:20230102T224155Z
LAST-MODIFIED:20230102T224155Z
UID:8005-1695202320-1695202320@beltonwoodsgolfclub.co.uk
SUMMARY:Monthly Medal
DESCRIPTION:8 Tee Times
URL:https://beltonwoodsgolfclub.co.uk/event/monthly-medal-31-2/
CATEGORIES:Ladies Competition
END:VEVENT
BEGIN:VEVENT
DTSTART;TZID=Europe/London:20230916T084400
DTEND;TZID=Europe/London:20230916T084400
DTSTAMP:20260419T224032
CREATED:20230102T224155Z
LAST-MODIFIED:20230102T224155Z
UID:8004-1694853840-1694853840@beltonwoodsgolfclub.co.uk
SUMMARY:Autumn Meeting
DESCRIPTION:10 Tee Times
URL:https://beltonwoodsgolfclub.co.uk/event/autumn-meeting-2/
CATEGORIES:Ladies Competition
END:VEVENT
BEGIN:VEVENT
DTSTART;TZID=Europe/London:20230916T084400
DTEND;TZID=Europe/London:20230916T084400
DTSTAMP:20260419T224032
CREATED:20230102T224155Z
LAST-MODIFIED:20230102T224155Z
UID:5282-1694853840-1694853840@beltonwoodsgolfclub.co.uk
SUMMARY:Autumn Meeting
DESCRIPTION:10 Tee Times
URL:https://beltonwoodsgolfclub.co.uk/event/autumn-meeting/
CATEGORIES:Ladies Competition
END:VEVENT
BEGIN:VEVENT
DTSTART;TZID=Europe/London:20230909T093200
DTEND;TZID=Europe/London:20230909T093200
DTSTAMP:20260419T224032
CREATED:20230102T224155Z
LAST-MODIFIED:20230102T224155Z
UID:8002-1694251920-1694251920@beltonwoodsgolfclub.co.uk
SUMMARY:Monthly Stableford
DESCRIPTION:8 Tee Times
URL:https://beltonwoodsgolfclub.co.uk/event/monthly-stableford-37-2/
CATEGORIES:Ladies Competition
END:VEVENT
BEGIN:VEVENT
DTSTART;TZID=Europe/London:20230909T093200
DTEND;TZID=Europe/London:20230909T093200
DTSTAMP:20260419T224032
CREATED:20230102T224155Z
LAST-MODIFIED:20230102T224155Z
UID:5280-1694251920-1694251920@beltonwoodsgolfclub.co.uk
SUMMARY:Monthly Stableford
DESCRIPTION:8 Tee Times
URL:https://beltonwoodsgolfclub.co.uk/event/monthly-stableford-37/
CATEGORIES:Ladies Competition
END:VEVENT
BEGIN:VEVENT
DTSTART;TZID=Europe/London:20230906T094800
DTEND;TZID=Europe/London:20230906T094800
DTSTAMP:20260419T224032
CREATED:20230102T224140Z
LAST-MODIFIED:20230102T224140Z
UID:8000-1693993680-1693993680@beltonwoodsgolfclub.co.uk
SUMMARY:Monthly Stableford
DESCRIPTION:8 Tee Times
URL:https://beltonwoodsgolfclub.co.uk/event/monthly-stableford-36-2/
CATEGORIES:Ladies Competition
END:VEVENT
BEGIN:VEVENT
DTSTART;TZID=Europe/London:20230906T094800
DTEND;TZID=Europe/London:20230906T094800
DTSTAMP:20260419T224032
CREATED:20230102T224140Z
LAST-MODIFIED:20230102T224140Z
UID:5278-1693993680-1693993680@beltonwoodsgolfclub.co.uk
SUMMARY:Monthly Stableford
DESCRIPTION:8 Tee Times
URL:https://beltonwoodsgolfclub.co.uk/event/monthly-stableford-36/
CATEGORIES:Ladies Competition
END:VEVENT
END:VCALENDAR