BEGIN:VCALENDAR
VERSION:2.0
PRODID:-//Belton Woods Golf Club - ECPv6.15.1.1//NONSGML v1.0//EN
CALSCALE:GREGORIAN
METHOD:PUBLISH
X-WR-CALNAME:Belton Woods Golf Club
X-ORIGINAL-URL:https://beltonwoodsgolfclub.co.uk
X-WR-CALDESC:Events for Belton Woods Golf Club
REFRESH-INTERVAL;VALUE=DURATION:PT1H
X-Robots-Tag:noindex
X-PUBLISHED-TTL:PT1H
BEGIN:VTIMEZONE
TZID:Europe/London
BEGIN:DAYLIGHT
TZOFFSETFROM:+0000
TZOFFSETTO:+0100
TZNAME:BST
DTSTART:20240331T010000
END:DAYLIGHT
BEGIN:STANDARD
TZOFFSETFROM:+0100
TZOFFSETTO:+0000
TZNAME:GMT
DTSTART:20241027T010000
END:STANDARD
END:VTIMEZONE
BEGIN:VEVENT
DTSTART;TZID=Europe/London:20241222T080200
DTEND;TZID=Europe/London:20241222T103600
DTSTAMP:20260421T194506
CREATED:20240113T073306Z
LAST-MODIFIED:20240113T073306Z
UID:6735-1734854520-1734863760@beltonwoodsgolfclub.co.uk
SUMMARY:Turkey Trot  4 Players Per Team any Combo  - Extra tees for starting on 10
DESCRIPTION:Orange/Green Tees
URL:https://beltonwoodsgolfclub.co.uk/event/turkey-trot-4-players-per-team-any-combo-extra-tees-for-starting-on-10-3/
CATEGORIES:Any Combination
END:VEVENT
END:VCALENDAR